BEGIN:VCALENDAR
VERSION:2.0
PRODID:-//wp-events-plugin.com//7.2.3.1//EN
TZID:America/New_York
X-WR-TIMEZONE:America/New_York
BEGIN:VEVENT
UID:485@breathemiami.us
DTSTART;TZID=America/New_York:20240613T170000
DTEND;TZID=America/New_York:20240613T190000
DTSTAMP:20240528T205932Z
URL:https://breathemiami.us/events/blossom-talks-run-of-show/
SUMMARY:Blossom Talks: Run of Show
DESCRIPTION:Blossom Talks invites you to immerse yourself in the art and sc
 ience of floral design against the stunning backdrop of Miami’s bayside 
 at sunset. This exclusive event\, held at the picturesque Reserve Padel\, 
 blends the therapeutic benefits of DIY floral arranging with the opportuni
 ty to engage with leading experts in the floral and lifestyle industries.\
 nJoin us for a two-hour journey into creativity and conversation\, where y
 ou will learn to build your own professional-quality bouquet with guidance
  from renowned DIY expert Courtney Sixx\, Amy Nebens\, and other special g
 uests. This interactive evening is designed not just to teach the technica
 l skills of floral arrangement but to inspire and uplift through the share
 d joy of crafting something beautiful by hand.\n\nWhat to Expect:\n\n 	Exp
 ert Panels: Gain insights from Courtney Sixx\, Amy Nebens\, and other nota
 ble figures as they discuss the transformative power of flowers and the jo
 ys of DIY projects.\n 	Hands-on Workshop: Each participant will receive a 
 Bouquet Box containing all necessary tools and materials to create a stunn
 ing floral arrangement under the guidance of our expert panelists.\n 	Netw
 orking Opportunities: Connect with fellow floral enthusiasts and industry 
 experts in a relaxed and beautiful setting.\n 	Refreshments: Enjoy an arra
 y of gourmet bites and refreshing beverages as you take in the beautiful v
 iews and soothing ambiance of the bayside location.\n 	Takeaways: Leave no
 t only with your own handmade bouquet but also with new skills\, connectio
 ns\, and a rejuvenated spirit.\n\nWho Should Attend:\nBlossom Talks is per
 fect for anyone interested in flowers\, DIY crafts\, or looking for a crea
 tive and relaxing way to spend an evening. Whether you’re a seasoned flo
 rist or a novice looking to learn more about floral design\, this event pr
 omises an enriching experience for all.\n\nLocation: Miami Seaplane Base\,
  1000 MacArthur Cswy\, Miami\, FL 33132 at the Reserve Padel overlooking t
 he bay.\nDuration: 2 Hours\n5:00 PM - Arrival and Welcome\n\n 	Guests arri
 ve and check in.\n 	Welcome drinks served as guests mingle.\n 	Ambient mus
 ic sets a relaxing atmosphere.\n\n5:15 PM - Opening Remarks\n\n 	Brief wel
 come by the host\, introducing the concept of Blossom Talks.\n 	Introducti
 on of special guests\, including Courtney Sixx and Amy Nebens.\n\n5:30 PM 
 - Expert Panel Discussion\n\n 	Courtney Sixx and Amy Nebens\, along with o
 ther guest speakers\, discuss the therapeutic benefits of floral arranging
  and insights into the DIY floral industry.\n 	Audience Q&amp\;A session.\
 n\n6:00 PM - Floral Arrangement Workshop\n\n 	Guests are directed to their
  workshop stations\, each equipped with a Bouquet Box.\n 	Includes:\n 	Fre
 sh-from-the-farm flowers.\n 	Reusable vase and grid lid.\n 	Stocked tool b
 ag with sheering clippers\, measuring stick\, and other essentials.\n 	Pho
 to how-to card with detailed instructions and QR code/link to private vide
 o tutorials for the month’s arrangement.\n 	Courtney Sixx and Amy Nebens
  provide live demonstrations and guidance.\n\n6:45 PM - Networking and Ref
 reshments\n\n 	Guests engage in networking while enjoying an array of bite
 s and drinks.\n 	Background music continues to enhance the ambiance.\n\n7:
 00 PM - Closing Remarks\n\n 	Thank you note from Courtney Sixx and Amy Neb
 ens\, encouraging guests to continue exploring floral arranging.\n 	Invita
 tion to sign up for future Blossom Talks sessions.\n\n7:15 PM - Event Conc
 ludes\n\n 	Guests depart with their handmade bouquets and new connections.
 \n\nAdditional Notes:\n\n 	Throughout the evening\, staff will circulate t
 o assist guests and answer questions.\n 	Photo opportunities will be set u
 p against the backdrop of the sunset and Bayside views.\n 	Social media ha
 shtags and photo tags encouraged to promote the event and share experience
 s.\n\nThis run of show is designed to ensure that guests not only learn ab
 out floral arranging\, but also enjoy a relaxing\, inspiring evening fille
 d with engaging conversations and beautiful surroundings.
ATTACH;FMTTYPE=image/jpeg:https://breathemiami.us/wp-content/uploads/2024/
 05/Courtney-Sixx_Build-Your-Bouquet_Founder-of-Bouquet-Box.jpg
CATEGORIES:Featured Events,Mindfulness Events,Things To Do
LOCATION:Reserve Padel Miami\, Miami Seaplane Base\, 1000 MacArthur Cswy\, 
 Miami\, FL 33132\, Miami\, Florida\, 33132\, United States
X-APPLE-STRUCTURED-LOCATION;VALUE=URI;X-ADDRESS=Miami Seaplane Base\, 1000 
 MacArthur Cswy\, Miami\, FL 33132\, Miami\, Florida\, 33132\, United State
 s;X-APPLE-RADIUS=100;X-TITLE=Reserve Padel Miami:geo:0,0
END:VEVENT
BEGIN:VTIMEZONE
TZID:America/New_York
X-LIC-LOCATION:America/New_York
BEGIN:DAYLIGHT
DTSTART:20240310T030000
TZOFFSETFROM:-0500
TZOFFSETTO:-0400
TZNAME:EDT
END:DAYLIGHT
END:VTIMEZONE
END:VCALENDAR