BEGIN:VCALENDAR
VERSION:2.0
PRODID:-//wp-events-plugin.com//7.2.3.1//EN
TZID:America/New_York
X-WR-TIMEZONE:America/New_York
BEGIN:VEVENT
UID:802@breathemiami.us
DTSTART;TZID=America/New_York:20240916T160000
DTEND;TZID=America/New_York:20240916T220000
DTSTAMP:20240906T182824Z
URL:https://breathemiami.us/events/black-august-wellness-revival/
SUMMARY:Black August Wellness Revival
DESCRIPTION:Step away from the everyday hustle and embrace a day dedicated 
 to well-being at the Black August Wellness Revival on Sunday\, September 1
 6. Hosted at the Historic Ward Rooming House\, this event offers a unique 
 opportunity for relaxation\, rejuvenation\, and reflection in a supportive
  community setting.\n\nCo-hosted by Florida Rising\, Black Men Build\, and
  Hampton Art Lovers\, this revival honors Black August—a time to reflect
  on the global struggles for Black liberation and celebrate the resilience
  and achievements of the Black community.\n\nEvent Highlights:\n\n 	Wellne
 ss Workshops: Engage in a series of workshops designed to nurture your min
 d and body\, fostering a deep sense of relaxation and self-care.\n 	Art Vi
 ewing: Experience Ray Rolston’s Conch House Hues\, an evocative art exhi
 bition celebrating cultural heritage and creativity.\n 	Film Screening: En
 joy a powerful screening of Judas and the Black Messiah\, a film that delv
 es into pivotal moments in the struggle for Black liberation.\n\nBlack Aug
 ust serves as a period to honor and remember the significant struggles and
  victories in the fight for Black freedom and equality. This event provide
 s a serene environment to unwind\, recharge\, and reflect on the importanc
 e of this historical month\, all while connecting with a vibrant community
 .\n\nGET TICKETS\n
ATTACH;FMTTYPE=image/jpeg:https://breathemiami.us/wp-content/uploads/2024/
 09/Black-August-Wellness-Revival.jpg
CATEGORIES:Mindfulness Events,Things To Do,Wellness Events
LOCATION:Historic Ward Rooming House\, 249 NW 9th St. Miami\, Miami\, Flori
 da\, 33136\, FL\, United States
X-APPLE-STRUCTURED-LOCATION;VALUE=URI;X-ADDRESS=249 NW 9th St. Miami\, Miam
 i\, Florida\, 33136\, FL\, United States;X-APPLE-RADIUS=100;X-TITLE=Histor
 ic Ward Rooming House:geo:0,0
END:VEVENT
BEGIN:VTIMEZONE
TZID:America/New_York
X-LIC-LOCATION:America/New_York
BEGIN:DAYLIGHT
DTSTART:20240310T030000
TZOFFSETFROM:-0500
TZOFFSETTO:-0400
TZNAME:EDT
END:DAYLIGHT
END:VTIMEZONE
END:VCALENDAR