BEGIN:VCALENDAR
VERSION:2.0
PRODID:-//wp-events-plugin.com//7.2.3.1//EN
TZID:America/New_York
X-WR-TIMEZONE:America/New_York
BEGIN:VEVENT
UID:590@breathemiami.us
DTSTART;TZID=America/New_York:20240721T100000
DTEND;TZID=America/New_York:20240721T170000
DTSTAMP:20240625T063420Z
URL:https://breathemiami.us/events/birthing-love-fertility-reset-1-day-ret
 reat/
SUMMARY:BIRTHING LOVE - Fertility Reset - 1 Day Retreat
DESCRIPTION:Experience a transformative 1-day retreat designed exclusively 
 for women at a serene location\, aimed at activating your body's natural h
 ealing abilities\, reducing stress\, and enhancing your fertility through 
 mindfulness practices and creative art therapies.\n\nEmpowerment Through W
 ellness:\n\nIn the journey of fertility challenges\, many women ask themse
 lves\, "What can I do differently?" Often\, these challenges lead to self-
 blame\, frustration\, and a sense of hopelessness. However\, this retreat 
 offers empowering answers. Alongside any necessary medical interventions\,
  focusing on reducing stress and nurturing your body's health is crucial. 
 Studies underscore the effectiveness of holistic body-mind therapies in ma
 naging stress\, balancing hormones\, and promoting overall wellness.\n\nHo
 listic Therapies and Creative Arts:\n\nRecent advancements highlight the e
 ffectiveness of creative arts therapies such as sound healing\, art therap
 y\, and writing in regulating stress levels\, healing emotional trauma\, a
 nd enhancing emotional well-being. At this retreat\, participants will eng
 age in these transformative practices\, guided by the retreat's five guidi
 ng principles of the Feminine. These practices are not only designed to fo
 ster self-care and wellness but also to reclaim a sense of control amidst 
 fertility challenges.\n\nComprehensive Retreat Activities:\n\n 	Rest &amp\
 ; Reset: Engage in mindfulness meditation and body-centered practices to a
 llow your nervous system to reset and harmonize\, promoting overall balanc
 e and health.\n 	Nervous System Release - From Grief to Love: Through voic
 e medicine and toning exercises\, release emotional stagnation and process
  grief\, creating space for healing and love.\n 	Nourishing and Nurturing:
  Experience reflective writing\, group acupuncture with gong meditation\, 
 and nurturing group sharing sessions to replenish and align your heart\, s
 oul\, and body.\n 	Embodiment of Creative Flow: Tap into your creative ess
 ence through simple art therapy practices that nourish and connect with yo
 ur body's creative potential.\n\nPractical Tools for Ongoing Wellness:\n\n
 Participants will gain practical tools such as meditation techniques\, bod
 y awareness exercises\, and mindfulness practices that can be easily integ
 rated into daily life to support ongoing health and well-being beyond the 
 retreat.\n\nWho Should Attend?\n\nThis retreat welcomes women navigating f
 ertility challenges\, whether currently undergoing Western treatments like
  IVF or IUI\, preparing for pregnancy naturally\, or processing past ferti
 lity experiences. It's a safe space for emotional\, spiritual\, and physic
 al healing\, emphasizing holistic well-being and creative arts.\n\nWhat's 
 Included:\n\n 	Understanding Your Biology from a Body-Mind Perspective\n 	
 Body-Womb Centered Meditation for Fertility Reset\n 	Mindfulness Tea Cerem
 ony\n 	Mindset Shift Workshops\n 	Grief Ceremony\n 	Creative Art Processes
 \n 	Voice Medicine Sessions\n 	Group Acupuncture with Gong and Sound Thera
 py\n 	Reflective Journaling\n 	Sharing and Self-Care Practices\n\nStep int
 o a day of empowerment\, healing\, and rejuvenation at the BIRTHING LOVE -
  Fertility Reset retreat. Explore holistic approaches to fertility enhance
 ment\, embrace self-care practices\, and discover a supportive community d
 edicated to holistic wellness. Whether you seek emotional healing\, spirit
 ual connection\, or simply a nurturing space\, this retreat promises trans
 formative experiences and lasting tools for your fertility journey. Reserv
 e your place today and embark on a path towards empowerment and fertility 
 wellness.\n\nGET TICKETS\n
ATTACH;FMTTYPE=image/jpeg:https://breathemiami.us/wp-content/uploads/2024/
 06/BIRTHING-LOVE-Fertility-Reset-1-Day-Retreat.jpg
CATEGORIES:Mindfulness Events,Retreats Events,Wellness Events
LOCATION:Pembroke Pines\, Miami\, Miami\, Florida\, FL \, United States
X-APPLE-STRUCTURED-LOCATION;VALUE=URI;X-ADDRESS=Miami\, Miami\, Florida\, F
 L \, United States;X-APPLE-RADIUS=100;X-TITLE=Pembroke Pines:geo:0,0
END:VEVENT
BEGIN:VTIMEZONE
TZID:America/New_York
X-LIC-LOCATION:America/New_York
BEGIN:DAYLIGHT
DTSTART:20240310T030000
TZOFFSETFROM:-0500
TZOFFSETTO:-0400
TZNAME:EDT
END:DAYLIGHT
END:VTIMEZONE
END:VCALENDAR