BEGIN:VCALENDAR
VERSION:2.0
PRODID:-//wp-events-plugin.com//7.2.3.1//EN
TZID:America/New_York
X-WR-TIMEZONE:America/New_York
BEGIN:VEVENT
UID:1069@breathemiami.us
DTSTART;TZID=America/New_York:20241019T180000
DTEND;TZID=America/New_York:20241019T220000
DTSTAMP:20241013T100852Z
URL:https://breathemiami.us/events/bill-baggs-haunted-hike-2024-key-biscay
 ne/
SUMMARY:Bill Baggs Haunted Hike 2024 Key Biscayne
DESCRIPTION:Get ready for a spooktacular experience the whole family can en
 joy at the Bill Baggs State Park’s most thrilling event of the season! T
 he Haunted Hike is set to open its gates at 6 PM\, inviting guests to part
 ake in an evening full of frightful fun and unforgettable memories.\n\nAs 
 the sun sets\, attendees will have access to a variety of festive activiti
 es\, including carnival rides\, a dunk tank\, a pumpkin patch\, face paint
 ing\, and live music. A special performance of "Little Monsters" by the Fa
 ntasy Factory Theater is scheduled for 6:30 PM\, adding to the enchanting 
 atmosphere. Guests should note that while food trucks will be available on
 -site\, their offerings are not included in the ticket price.\n\nTicket Op
 tions\n\nGeneral Admission Tickets are available for both children and adu
 lts\, granting access to an array of attractions including unlimited rides
 \, the Fantasy Theater performance\, face painting\, the dunk tank\, live 
 music\, the pumpkin patch\, and a photo booth. However\, these tickets do 
 not provide access to the Haunted Hike.\n\nHaunted Hike Tickets must be pu
 rchased separately to experience the spine-chilling journey through the pa
 rk after dark. Each ticket comes with a designated time slot to help minim
 ize wait times\, allowing guests to select their preferred walking time fo
 r the eerie trek. Attendees can expect a hair-raising adventure filled wit
 h thrills and chills as they encounter the park's frightful creatures.\n\n
 Haunted Hike tickets also include unlimited rides and access to the other 
 attractions available at the event. Whether rain or shine\, the park promi
 ses a hauntingly good time.\n\nAge Recommendations and Guidelines\n\nThe H
 aunted Hike is recommended for children aged 8 and older. For those 8 year
 s of age or younger\, parental supervision is required\; both the child an
 d the accompanying adult must possess tickets for entry. It is essential t
 o note that this event can be quite scary!\n\nTo ensure a safe and enjoyab
 le experience for everyone\, several guidelines and a code of conduct are 
 in place for the Haunted Hike:\n\n 	Costume and Mask Policy: Guests are no
 t permitted to wear costumes or masks during the Haunted Hike.\n 	Safety P
 recautions: Touching props or performers is strictly prohibited.\n 	Ticket
  Validity: Haunted Hike tickets allow for one walk-through of the attracti
 on and include unlimited access to all other event activities.\n 	General 
 Admission Ticket Limitations: While General Admission tickets include unli
 mited rides and access to other attractions\, they do not provide entry to
  the Haunted Hike.\n\nStrict adherence to these rules is necessary to main
 tain a safe environment for all guests and performers. Failure to comply m
 ay result in expulsion from the event and the park.\n\nDon’t miss this c
 hance to create lasting memories filled with laughter and thrills at the B
 ill Baggs Haunted Hike—an event designed to entertain and delight!\n\nGE
 T TICKETS\n
CATEGORIES:Sports &amp; Fitness Events,Things To Do
LOCATION:Bill Baggs Cape Florida State Park\, 1200 Crandon Blvd Key Biscayn
 e\, Miami\, Florida\, 33149\, FL\, United States
X-APPLE-STRUCTURED-LOCATION;VALUE=URI;X-ADDRESS=1200 Crandon Blvd Key Bisca
 yne\, Miami\, Florida\, 33149\, FL\, United States;X-APPLE-RADIUS=100;X-TI
 TLE=Bill Baggs Cape Florida State Park:geo:0,0
END:VEVENT
BEGIN:VTIMEZONE
TZID:America/New_York
X-LIC-LOCATION:America/New_York
BEGIN:DAYLIGHT
DTSTART:20240310T030000
TZOFFSETFROM:-0500
TZOFFSETTO:-0400
TZNAME:EDT
END:DAYLIGHT
END:VTIMEZONE
END:VCALENDAR