BEGIN:VCALENDAR
VERSION:2.0
PRODID:-//wp-events-plugin.com//7.2.3.1//EN
TZID:America/New_York
X-WR-TIMEZONE:America/New_York
BEGIN:VEVENT
UID:1389@breathemiami.us
DTSTART;TZID=America/New_York:20251025T140000
DTEND;TZID=America/New_York:20251025T180000
DTSTAMP:20251007T154433Z
URL:https://breathemiami.us/events/big-read-miami-live-arts-miami-moca-son
 gwriting-workshop-with-guest-artist-inez-barlatier/
SUMMARY:Big Read Miami: Live Arts Miami + MOCA Songwriting Workshop With Gu
 est Artist Inez Barlatier
DESCRIPTION:Big Read Miami: Live Arts Miami + MOCA Songwriting Workshop Wit
 h Guest Artist Inez Barlatier\nSaturday\, October 25 @ 2:00 pm\nMuseum of 
 Contemporary Art\n\n770 NE 125th Street\, North Miami\, FL 33161 Unite
 d States\n\n\n\n\n\n\n\n\n\n\n \n\n\n\nLed by professional songwriter INE
 Z BARLATIER\, you’ll draw on themes found in Sandra Cisneros’ The Hou
 se on Mango Street and discuss how they lend themselves to lyrics\, melod
 y\, and chord progression\, then craft an original song which you’ll per
 form together as a group at the end of class. No prior songwriting experie
 nce necessary!\nInez Barlatier is an Ayisyen-American singer\, songwriter
 \, musician &amp\; actor with over two decades of performance history. Her
  music is inspired by her Ayisyen heritage and is featured in award-winnin
 g films\; Razing Liberty Square (Katja Esson) on PBS\, Madame Pipi (Ra
 chelle Salnave) &amp\; Ludi and Grown (Edson Jean). Her children’s sho
 w\, AYITI: Stories &amp\; Songs from Haiti\, continues to educate over 20
 0k children and families across the Americas with interactive singing\, dr
 umming\, dancing and storytelling. She is currently an actress in ongoing 
 theater plays\, F.Punk Junkies (Teo Castellanos) \, IAMME (Adrienne Ar
 sht Center) &amp\; Sharing Grandmothers (FundArte). Inez’s work has be
 en featured internationally as well as in her hometown\; Miami’s CBS 4 
 News\, NBC 6 News\, WSFL-TV\, Island TV\, PBS\, NPR\, WLRN\, WDNA\, iiipoi
 nts\, Miami New Times and The Miami Herald. Inez is currently working on
  a new full-length children’s show called Love Is A Verb commissioned 
 by Wolf Trap in Vienna\, Virginia. Learn more about Inez at InezInezInez.
 com.\n\n\nPresented as part of the 2025 NEA Big Read Miami in partnership 
 with Live Arts Miami and the Museum of Contemporary Art North Miami.\n\n\n
 \n\n
ATTACH;FMTTYPE=image/jpeg:https://breathemiami.us/wp-content/uploads/2025/
 10/600x600-tbr-web-inez.jpg
CATEGORIES:Mindfulness Events,Music,Things To Do,Wellness Events
LOCATION:Museum of Contemporary Art\, 770 NE 125th St. North Miami\, Miami\
 , Florida\, 33132\,  FL \, United States
X-APPLE-STRUCTURED-LOCATION;VALUE=URI;X-ADDRESS=770 NE 125th St. North Miam
 i\, Miami\, Florida\, 33132\,  FL \, United States;X-APPLE-RADIUS=100;X-TI
 TLE=Museum of Contemporary Art:geo:0,0
END:VEVENT
BEGIN:VTIMEZONE
TZID:America/New_York
X-LIC-LOCATION:America/New_York
BEGIN:DAYLIGHT
DTSTART:20250309T030000
TZOFFSETFROM:-0500
TZOFFSETTO:-0400
TZNAME:EDT
END:DAYLIGHT
END:VTIMEZONE
END:VCALENDAR