BEGIN:VCALENDAR
VERSION:2.0
PRODID:-//wp-events-plugin.com//7.2.3.1//EN
TZID:America/New_York
X-WR-TIMEZONE:America/New_York
BEGIN:VEVENT
UID:664@breathemiami.us
DTSTART;TZID=America/New_York:20240808T110000
DTEND;TZID=America/New_York:20240808T110000
DTSTAMP:20240804T082234Z
URL:https://breathemiami.us/events/beyond-measure/
SUMMARY:Beyond Measure
DESCRIPTION:This summer\, the Museum of Graffiti in Wynwood will host a his
 toric solo exhibition by the acclaimed Amsterdam graffiti artist\, Mick La
  Rock. Known for her pioneering role as one of the few prominent female gr
 affiti artists in the 1980s\, La Rock is set to unveil her first-ever solo
  show\, titled “Beyond Measure.”\n\nEvent Highlights:\n\nExhibition Ov
 erview: “Beyond Measure” delves into Mick La Rock’s latest artistic 
 exploration\, highlighting her innovative approach to geometric art. This 
 collection showcases her mastery of mathematical concepts\, color theory\,
  and intricate composition\, marking a new chapter in her distinguished ca
 reer. La Rock’s work transcends traditional graffiti boundaries\, presen
 ting a unique fusion of art and mathematics.\n\nGrand Opening: The exhibit
 ion will kick off with a grand opening event at the Museum of Graffiti\, o
 ffering a rare opportunity to meet the artist herself. Attendees will be a
 ble to engage with La Rock\, gaining insight into her creative process and
  the inspiration behind her groundbreaking geometric works.\n\nWhat to Exp
 ect:\n\n 	Innovative Art: Experience La Rock’s bold use of geometry\, co
 lor\, and mathematical precision in a visually stunning display.\n 	Histor
 ic Milestone: Witness the debut of a trailblazing female artist’s solo e
 xhibition\, celebrating her significant contributions to the graffiti art 
 world.\n 	Interactive Experience: Engage with the artist and explore the d
 eeper themes of her work at the exhibition’s opening event.\n\nDetails:\
 n\n 	Location: Museum of Graffiti\, Wynwood\, Miami\n 	Special Features: M
 eet-and-greet with Mick La Rock\n\nJoin Us: Don’t miss this exceptional 
 opportunity to experience the artistic brilliance of Mick La Rock and cele
 brate her pioneering achievements in the graffiti scene. “Beyond Measure
 ” promises to be a landmark event in the art world\, showcasing La Rock
 ’s continued evolution and influence.\n\nMark your calendar and be part 
 of this historic exhibition\, as Mick La Rock redefines the boundaries of 
 graffiti art with her visionary geometric creations.\n\nGET TICKETS\n
ATTACH;FMTTYPE=image/jpeg:https://breathemiami.us/wp-content/uploads/2024/
 08/Beyond_Measure.webp
CATEGORIES:Mindfulness Events,Things To Do,Wellness Events
LOCATION:Museum of Graffiti\, 276 Northwest 26th Street\, Miami\, FL\, 3312
 7\, Florida\, United States
X-APPLE-STRUCTURED-LOCATION;VALUE=URI;X-ADDRESS=276 Northwest 26th Street\,
  Miami\, FL\, 33127\, Florida\, United States;X-APPLE-RADIUS=100;X-TITLE=M
 useum of Graffiti:geo:0,0
END:VEVENT
BEGIN:VTIMEZONE
TZID:America/New_York
X-LIC-LOCATION:America/New_York
BEGIN:DAYLIGHT
DTSTART:20240310T030000
TZOFFSETFROM:-0500
TZOFFSETTO:-0400
TZNAME:EDT
END:DAYLIGHT
END:VTIMEZONE
END:VCALENDAR