BEGIN:VCALENDAR
VERSION:2.0
PRODID:-//wp-events-plugin.com//7.2.3.1//EN
TZID:America/New_York
X-WR-TIMEZONE:America/New_York
BEGIN:VEVENT
UID:1397@breathemiami.us
DTSTART;TZID=America/New_York:20251116T090000
DTEND;TZID=America/New_York:20251116T180000
DTSTAMP:20251104T171734Z
URL:https://breathemiami.us/events/betterness-fest/
SUMMARY:Betterness Fest
DESCRIPTION:\nBetterness Fest\, in partnership with Flow at Miami Worldcent
 er — a day of wellness\, innovation &amp\; community with 200+ partners.
 \n\nBetterness Fest: Where Wellness\, Innovation &amp\; Community Unite\n\
 n\nBetterness Fest is a one-day celebration of human connection\, wellnes
 s\, and innovation — bringing together thousands of attendees and over 
 200 wellness partners for an immersive experience at Miami Worldcenter\,
  in partnership with Flow Miami.\n\n\n\n\nThis isn’t just another welln
 ess event — it’s a living ecosystem.\nAt Betterness Fest\, you’ll e
 xperience the future of well-being through live experiences\, interactive
  workshops\, and a vibrant wellness farmers market that extends across Mi
 ami Worldcenter’s iconic outdoor spaces.\n\nDiscover. Connect. Thrive.\n
 Spend the day exploring over 100 wellness and tech activations — from br
 eathwork\, recovery\, and nutrition to movement\, mindfulness\, and cuttin
 g-edge health innovations. Meet local and global brands redefining wellnes
 s\, connect with founders and creators\, and enjoy meaningful moments that
  nourish mind\, body\, and spirit.\n\nFor Partners:\nBetterness Fest also 
 features a dedicated Partner Experience\, offering exclusive access to th
 e Wellness Connection Lounge inside Flow State Coffee\, VIP networking o
 pportunities\, and the Closing Celebration at Lucky Strike — all desig
 ned to connect brands\, investors\, and wellness leaders within the Better
 ness ecosystem.\n\nFor Attendees:\nJoin thousands of like-minded individua
 ls for a day of inspiration\, discovery\, and transformation. Explore the
  Betterness Farmers Market\, engage with innovative wellness products and
  services\, and experience firsthand how human connection and technology c
 an work together to help us all live better lives.\n\nHighlights include:\
 n\n 	Over 200 wellness partners and brands\n 	Interactive sessions and liv
 e demos\n 	Flow Miami Wellness Connection Lounge\n 	Farmers Market extendi
 ng throughout Miami Worldcenter\n 	VIP Closing Experience at Lucky Strike\
 n\nThis is where the future of wellness begins — in the heart of Miami.\
 nCome connect\, explore\, and experience Betterness in action.\n\n\n\n\n\n
 \n\n\n\n
ATTACH;FMTTYPE=image/jpeg:https://breathemiami.us/wp-content/uploads/2025/
 11/Betterness-Fest.jpeg
CATEGORIES:Mindfulness Events,Music,Sports &amp; Fitness Events,Things To
 Do,Wellness Events,Yoga Events
LOCATION:Flow Miami\, 698 Northeast 1st Avenue\, Miami\, Florida\, 33132\, 
  FL \, United States
X-APPLE-STRUCTURED-LOCATION;VALUE=URI;X-ADDRESS=698 Northeast 1st Avenue\, 
 Miami\, Florida\, 33132\,  FL \, United States;X-APPLE-RADIUS=100;X-TITLE=
 Flow Miami:geo:0,0
END:VEVENT
BEGIN:VTIMEZONE
TZID:America/New_York
X-LIC-LOCATION:America/New_York
BEGIN:STANDARD
DTSTART:20251102T010000
TZOFFSETFROM:-0400
TZOFFSETTO:-0500
TZNAME:EST
END:STANDARD
END:VTIMEZONE
END:VCALENDAR