BEGIN:VCALENDAR
VERSION:2.0
PRODID:-//wp-events-plugin.com//7.2.3.1//EN
TZID:America/New_York
X-WR-TIMEZONE:America/New_York
BEGIN:VEVENT
UID:1056@breathemiami.us
DTSTART;TZID=America/New_York:20241027T190000
DTEND;TZID=America/New_York:20241027T220000
DTSTAMP:20241013T075455Z
URL:https://breathemiami.us/events/best-baguette-and-croissant-contest-202
 4/
SUMMARY:Best Baguette and Croissant Contest 2024
DESCRIPTION:Mark your calendars for a culinary extravaganza celebrating the
  artistry of French baking at the 3rd Annual Best Baguette and Best Croiss
 ant Contest in Miami Beach. Scheduled for October 27\, 2024\, from 7 PM to
  10 PM\, this exciting event will take place at the elegant National Hotel
  in Miami Beach.\n\nThis delightful evening will showcase the incredible c
 reations of participating bakers\, featuring a variety of baked goods incl
 uding bread\, pastries\, and cakes. Guests will also indulge in a sumptuou
 s charcuterie and cheese buffet\, along with a complimentary beverage to e
 nhance their tasting experience. Additionally\, attendees will be treated 
 to a special tasting of jams and preserves from Madeleine &amp\; Co\, maki
 ng for a truly memorable culinary adventure.\n\nThe contest is organized b
 y the French American Association of Crafts and Trades (FAACT FL) in colla
 boration with the French Morning Media Group. This year\, twenty esteemed 
 artisans\, bakers\, and pastry chefs will showcase their exceptional skill
 s in crafting the finest baguettes and croissants. With an anticipated att
 endance of around 600 enthusiastic visitors passionate about French gastro
 nomy\, the event promises to be a gathering of culture and community.\n\nT
 hroughout the night\, talented artisans will present their baked creations
  to a distinguished panel of professional judges. Attendees will have the 
 unique opportunity to sample a variety of free tastings and interact with 
 the skilled artisans behind these delectable treats. The jury will award t
 he coveted titles of "Best Baguette" and "Best Croissant" in Florida to th
 e top three artisans in each category\, highlighting their remarkable craf
 tsmanship and dedication to the art of baking.\n\nThis event not only cele
 brates the excellence of culinary skills in Florida but also emphasizes th
 e rich cultural significance of French baking. In November 2022\, the bagu
 ette was added to UNESCO's Intangible Cultural Heritage list\, symbolizing
  the deep-rooted traditions of French culture.\n\nDon’t miss this unique
  opportunity to experience the best of French bakery artistry! Join us for
  an unforgettable evening filled with delicious flavors and the joy of cel
 ebrating culinary excellence.\n\nGET TICKETS\n
ATTACH;FMTTYPE=image/jpeg:https://breathemiami.us/wp-content/uploads/2024/
 10/Best-Baguette-and-Croissant-Contest-2024.jpg
CATEGORIES:Food &amp; Drink Events,Things To Do
LOCATION:National Hotel\, 1677 Collins Avenue Miami Beach\, Miami\, Florida
 \, 33139\, FL\, United States
X-APPLE-STRUCTURED-LOCATION;VALUE=URI;X-ADDRESS=1677 Collins Avenue Miami B
 each\, Miami\, Florida\, 33139\, FL\, United States;X-APPLE-RADIUS=100;X-T
 ITLE=National Hotel:geo:0,0
END:VEVENT
BEGIN:VTIMEZONE
TZID:America/New_York
X-LIC-LOCATION:America/New_York
BEGIN:DAYLIGHT
DTSTART:20240310T030000
TZOFFSETFROM:-0500
TZOFFSETTO:-0400
TZNAME:EDT
END:DAYLIGHT
END:VTIMEZONE
END:VCALENDAR