BEGIN:VCALENDAR
VERSION:2.0
PRODID:-//wp-events-plugin.com//7.2.3.1//EN
TZID:America/New_York
X-WR-TIMEZONE:America/New_York
BEGIN:VEVENT
UID:199@breathemiami.us
DTSTART;TZID=America/New_York:20231210T150000
DTEND;TZID=America/New_York:20231210T160000
DTSTAMP:20240907T180906Z
URL:https://breathemiami.us/events/before-sunset-meditation/
SUMMARY:Before Sunset Meditation
DESCRIPTION:Event Information:\n\nEmbark on a soulful journey as we invite 
 you to join Agustina Caminos of Tierra Santa Healing House and Myk Likhov 
 of Modern ŌM for their cherished annual tradition – the Art Basel closi
 ng meditation. Experience a profound blend of healing energies in the comp
 any of these esteemed guides\, marking the symbolic conclusion of Art Base
 l week. Your presence is not just welcomed\; it is a vital part of this ha
 rmonious gathering\, where the power of meditation intertwines with the sp
 irit of Art Basel.\n\nDate and Time:Sunday\, December 10 · 3 - 4pm EST\n\
 nAbout this event:\n\n 	Join Agustina Caminos of Tierra Santa Healing Hous
 e and Myk Likhov of Modern ŌM for their annual Art Basel closing meditati
 on.\n 	This beach meditation serves as a symbolic conclusion to Art Basel 
 week\, sealing the week's experiences and inspiring participants to share 
 what they have received.\n\nDuration: 1 hour\n\nTicket Information:\n\n 	T
 icket Type: Mobile eTicket\n 	Suggested Contribution: $20 (Adjustable up o
 r down\, optional for ACCESS PLAN Members)\n\n\nGET TICKETS\n\n\nWorkout S
 ession Details:\n\n 	Instructors:\n\n 	Agustina Caminos: Wellness Director
  for Faena Group and Spa Director at Faena Hotel Miami Beach\, Pranic Heal
 ing instructor\, therapist\, and spiritual guide.\n 	Myk Likhov: Modern Ō
 M representative.\n\n\n 	Location: Surrounding the MAZE: JOURNEY THROUGH T
 HE ALGORITHMIC SELF by SEBASTIAN ERRAZURIZ on the beach in front of Faena 
 Hotel. Please meet at the entrance of the maze.\n\nEssentials to Bring:\n\
 n 	Towel\, mat\, or blanket\n 	Refillable water bottle\n 	Open heart\n\nPa
 rking Options:\n\n 	alet parking at Faena Hotel\n 	Municipal lot one block
  north of Faena\n
ATTACH;FMTTYPE=image/jpeg:https://breathemiami.us/wp-content/uploads/2023/
 12/https___cdn.evbuc_.com_images_650279259_1145507310493_1_original.jpg
CATEGORIES:Wellness Events,Yoga Events
LOCATION:Faena Hotel\, 3201 Collins Avenue\, Miami Beach\, FL\, 33140\, Uni
 ted States
X-APPLE-STRUCTURED-LOCATION;VALUE=URI;X-ADDRESS=3201 Collins Avenue\, Miami
  Beach\, FL\, 33140\, United States;X-APPLE-RADIUS=100;X-TITLE=Faena Hotel
 :geo:0,0
END:VEVENT
BEGIN:VTIMEZONE
TZID:America/New_York
X-LIC-LOCATION:America/New_York
BEGIN:STANDARD
DTSTART:20231105T010000
TZOFFSETFROM:-0400
TZOFFSETTO:-0500
TZNAME:EST
END:STANDARD
END:VTIMEZONE
END:VCALENDAR