BEGIN:VCALENDAR
VERSION:2.0
PRODID:-//wp-events-plugin.com//7.2.3.1//EN
TZID:America/New_York
X-WR-TIMEZONE:America/New_York
BEGIN:VEVENT
UID:1026@breathemiami.us
DTSTART;TZID=America/New_York:20241103T100000
DTEND;TZID=America/New_York:20241103T110000
DTSTAMP:20241010T080024Z
URL:https://breathemiami.us/events/beer-yoga-at-lauderale-brewery/
SUMMARY:Beer Yoga at LauderAle Brewery
DESCRIPTION:Experience a dynamic vinyasa yoga session with a unique twist a
 t LauderAle Brewery. During this active class\, participants will be guide
 d through poses that incorporate one of the brewery’s signature ales\, a
 dding an extra challenge to your balance during the final poses. This fun 
 and refreshing practice blends the benefits of yoga with the enjoyment of 
 craft beer.\n\nDetails:\n\n 	Class includes: A full vinyasa session\, one 
 signature beer\, and a tip for the bartender.\n 	Cost: $16 when booked in 
 advance\, $20 on the day of the event. Save on fees by booking directly at
  AlesandAsanas.com.\n 	Age requirement: Must be 21+ to consume alcohol. If
  you'd prefer water or another beverage\, let us know before class starts.
 \n\nSpecial perks:\nAfter class\, yogis enjoy a 25% discount on additional
  purchases at the bar.\n\nBooking and payment info:\nTo ensure a smooth an
 d contactless check-in\, please be pre-registered\, paid\, and complete th
 e digital waiver ahead of time.\n\nCancellation policy:\nPlease note that 
 all cancellations are subject to a non-refundable processing fee. Cancella
 tions on the day of the event or no-shows will forfeit 100% of the purchas
 e and are non-transferable.\n\nCome for the yoga\, stay for the beer\, and
  connect with the LauderAle community!\n\nGET TICKETS\n
ATTACH;FMTTYPE=image/jpeg:https://breathemiami.us/wp-content/uploads/2024/
 10/Beer-Yoga-at-LauderAle-Brewery.jpg
CATEGORIES:Yoga Events
LOCATION:LauderAle brewery\, 3305 SE 14th Ave\, Fort Lauderdale\, Florida\,
  33316\, FL \, United States
X-APPLE-STRUCTURED-LOCATION;VALUE=URI;X-ADDRESS=3305 SE 14th Ave\, Fort Lau
 derdale\, Florida\, 33316\, FL \, United States;X-APPLE-RADIUS=100;X-TITLE
 =LauderAle brewery:geo:0,0
END:VEVENT
BEGIN:VTIMEZONE
TZID:America/New_York
X-LIC-LOCATION:America/New_York
BEGIN:STANDARD
DTSTART:20241103T010000
TZOFFSETFROM:-0400
TZOFFSETTO:-0500
TZNAME:EST
END:STANDARD
END:VTIMEZONE
END:VCALENDAR