BEGIN:VCALENDAR
VERSION:2.0
PRODID:-//wp-events-plugin.com//7.2.3.1//EN
TZID:America/New_York
X-WR-TIMEZONE:America/New_York
BEGIN:VEVENT
UID:700@breathemiami.us
DTSTART;TZID=America/New_York:20240824T090000
DTEND;TZID=America/New_York:20240824T130000
DTSTAMP:20240806T074537Z
URL:https://breathemiami.us/events/beautiful-you-day-retreat/
SUMMARY:Beautiful You Day Retreat
DESCRIPTION:For those seeking a refreshing escape to rejuvenate\, realign\,
  and indulge in self-care\, the Beautiful You Day Retreat offers an except
 ional experience crafted for women who value empowerment and wellness. Thi
 s one-of-a-kind retreat\, held locally for your convenience\, invites you 
 to connect with like-hearted women in a nurturing environment designed to 
 celebrate and enhance your well-being.\n\nWhat to Expect:\n\n 	8:45 AM - C
 heck-In &amp\; Light Breakfast: Begin your day with a warm welcome\, enjoy
 ing coffee and a light breakfast as you prepare to embark on a day of self
 -discovery and empowerment.\n 	9:15 AM - Ice Breaker\, Opening Meditation 
 &amp\; Empowering Talks: Engage in a transformative ice breaker activity f
 ollowed by a grounding meditation session. Be inspired by insightful talks
  from notable speakers including Ajaluna\, Marylee Marre\, a specialist in
  Functional Medicine\, and Marcy Siegal\, a renowned Mom Coach.\n 	10:00 A
 M - Barreless Barre Class: Move your body in a refreshing 45-minute Barrel
 ess Barre class led by Pure Barre FTL. Enjoy the freedom of this class in 
 both an outdoor green space and an indoor yoga room\, blending fitness wit
 h the beauty of nature.\n 	11:00 AM - 1:00 PM - Wellness Experience Statio
 ns: Explore a variety of wellness stations featuring engaging activities\,
  social interactions\, light bites\, and refreshing drinks. This is your t
 ime to shop\, socialize\, and savor the day with fellow participants.\n\nH
 ighlights:\n\n 	Empowering Environment: Surround yourself with inspiring w
 omen and uplifting experiences designed to enhance your confidence and wel
 l-being.\n 	Convenience and Comfort: Enjoy a local retreat with no travel 
 required\, offering both relaxation and practical benefits.\n 	Holistic We
 llness: Benefit from a balanced schedule of physical activities\, inspirin
 g talks\, and social connections.\n\nJoin us for the Beautiful You Day Ret
 reat and take a step toward greater self-love\, empowerment\, and fun. Res
 erve your spot and prepare for a day that celebrates the beautiful\, empow
 ered you!\n\nGET TICKETS\n
ATTACH;FMTTYPE=image/jpeg:https://breathemiami.us/wp-content/uploads/2024/
 08/Beautiful-You-Day-Retreat.jpg
CATEGORIES:Mindfulness Events,Retreats Events,Things To Do,Wellness Events
LOCATION:Oaklyn\, 3333 North Federal Highway Rooftop Clubhouse Oakland Park
 \, Miami\,  United States\, 33306\, FL \, United States
X-APPLE-STRUCTURED-LOCATION;VALUE=URI;X-ADDRESS=3333 North Federal Highway 
 Rooftop Clubhouse Oakland Park\, Miami\,  United States\, 33306\, FL \, Un
 ited States;X-APPLE-RADIUS=100;X-TITLE=Oaklyn:geo:0,0
END:VEVENT
BEGIN:VTIMEZONE
TZID:America/New_York
X-LIC-LOCATION:America/New_York
BEGIN:DAYLIGHT
DTSTART:20240310T030000
TZOFFSETFROM:-0500
TZOFFSETTO:-0400
TZNAME:EDT
END:DAYLIGHT
END:VTIMEZONE
END:VCALENDAR