BEGIN:VCALENDAR
VERSION:2.0
PRODID:-//wp-events-plugin.com//7.2.3.1//EN
TZID:America/New_York
X-WR-TIMEZONE:America/New_York
BEGIN:VEVENT
UID:894@breathemiami.us
DTSTART;TZID=America/New_York:20240925T200000
DTEND;TZID=America/New_York:20240925T220000
DTSTAMP:20240917T120556Z
URL:https://breathemiami.us/events/beatsbreathwork-with-kyma-friends/
SUMMARY:BEÅTS+BREATHWORK WITH KYMÅ & FRIENDS
DESCRIPTION:Immerse yourself in a unique sensory experience at "BEÅTS + BR
 EATHWORK WITH KYMÅ &amp\; FRIENDS\," a special evening designed to deepen
  connections through rhythm\, breath\, and sound. Held at Terrestrial Funk
  in the Design District\, this intimate gathering invites participants to 
 flow harmoniously through the transformative eclipse season.\n\nOn this ex
 ceptional September night\, KYMÅ will lead a calming and rhythmic seated 
 meditation\, complemented by breathwork techniques that harmonize with the
  evening’s ambiance. Adding to the experience\, guest selector Djinji Br
 own will curate a captivating soundscape\, played on an immersive JBL soun
 d system\, enhancing the journey with rich\, cinematic audio.\n\nThis even
 t offers a rare opportunity to explore the profound interplay between soun
 d and breath\, fostering a deeper sense of connection and inner peace. Joi
 n KYMÅ and friends for an evening of rejuvenation and discovery in a sett
 ing designed to uplift and inspire.\n\nGET TICKETS\n
ATTACH;FMTTYPE=image/jpeg:https://breathemiami.us/wp-content/uploads/2024/
 09/BEATSBREATHWORK-WITH-KYMA-FRIENDS.jpg
CATEGORIES:Things To Do,Wellness Events
LOCATION:Terrestrial Funk\, 35 Northeast 40th Street\, Miami\, Florida\, 33
 137\, FL\, United States
X-APPLE-STRUCTURED-LOCATION;VALUE=URI;X-ADDRESS=35 Northeast 40th Street\, 
 Miami\, Florida\, 33137\, FL\, United States;X-APPLE-RADIUS=100;X-TITLE=Te
 rrestrial Funk:geo:0,0
END:VEVENT
BEGIN:VTIMEZONE
TZID:America/New_York
X-LIC-LOCATION:America/New_York
BEGIN:DAYLIGHT
DTSTART:20240310T030000
TZOFFSETFROM:-0500
TZOFFSETTO:-0400
TZNAME:EDT
END:DAYLIGHT
END:VTIMEZONE
END:VCALENDAR