BEGIN:VCALENDAR
VERSION:2.0
PRODID:-//wp-events-plugin.com//7.2.3.1//EN
TZID:America/New_York
X-WR-TIMEZONE:America/New_York
BEGIN:VEVENT
UID:956@breathemiami.us
DTSTART;TZID=America/New_York:20241023T200000
DTEND;TZID=America/New_York:20241023T220000
DTSTAMP:20241002T170701Z
URL:https://breathemiami.us/events/beatsbreathwork-with-kyma-friends-2/
SUMMARY:BEÅTS+BREATHWORK WITH KYMÅ & FRIENDS
DESCRIPTION:Experience an intimate evening of rhythm\, breath\, and sound a
 t BEÅTS + BREATHWORK WITH KYMÅ &amp\; FRIENDS. Held at Terrestrial Funk 
 in the Design District\, this unique gathering invites participants to exp
 lore the profound connections between breath and sound\, all while flowing
  through the shifting energies of eclipse season.\n\nSeptember Event\nSoot
 he your soul with sustainable sounds\, featuring guest selector Djinji Bro
 wn. Enjoy a captivating audio experience powered by an immersive cinematic
  JBL sound system as KYMÅ leads a subtle\, seated rhythmic meditation and
  breathwork session. The evening will conclude in the BEÅT LOUNGE + APOTH
 ECARY\, where guests can relax\, socialize\, and sip on a botanical homebr
 ew crafted with love.\n\nOctober Event\nRelax your mind and let your subco
 nscious roam free with more immersive sounds and mindful experiences. With
  limited seating\, the October edition promises an intimate setting for de
 ep connection and relaxation.\n\nGET TICKETS\n
ATTACH;FMTTYPE=image/jpeg:https://breathemiami.us/wp-content/uploads/2024/
 10/BEATSBREATHWORK-WITH-KYMA-FRIENDS.jpg
CATEGORIES:Wellness Events
LOCATION:Terrestrial Funk\, 35 Northeast 40th Street\, Miami\, Florida\, 33
 137\, FL\, United States
X-APPLE-STRUCTURED-LOCATION;VALUE=URI;X-ADDRESS=35 Northeast 40th Street\, 
 Miami\, Florida\, 33137\, FL\, United States;X-APPLE-RADIUS=100;X-TITLE=Te
 rrestrial Funk:geo:0,0
END:VEVENT
BEGIN:VTIMEZONE
TZID:America/New_York
X-LIC-LOCATION:America/New_York
BEGIN:DAYLIGHT
DTSTART:20240310T030000
TZOFFSETFROM:-0500
TZOFFSETTO:-0400
TZNAME:EDT
END:DAYLIGHT
END:VTIMEZONE
END:VCALENDAR