BEGIN:VCALENDAR
VERSION:2.0
PRODID:-//wp-events-plugin.com//7.2.3.1//EN
TZID:America/New_York
X-WR-TIMEZONE:America/New_York
BEGIN:VEVENT
UID:269@breathemiami.us
DTSTART;TZID=America/New_York:20240102T193000
DTEND;TZID=America/New_York:20240102T203000
DTSTAMP:20231227T203448Z
URL:https://breathemiami.us/events/beachside-meditation-and-reiki/
SUMMARY:Beachside Meditation and Reiki
DESCRIPTION:Event Information:\n\n\n\n\n\n\n\n\n\n\n\n\n\nEmbark on a tranq
 uil journey with us as we invite you to an evening of meditation and energ
 y healing. Immerse yourself in the serenity of guided visualizations and e
 mbrace the soothing power of reiki. Get ready to unwind and experience a p
 rofound sense of relaxation that will rejuvenate both your mind and spirit
 . Join us in this transformative experience where tranquility meets energy
 \, and let the guided journey lead you to a state of deep calm and revital
 ization.\n\n\n\n\n\n\n\n\n\n\n\n\n\nDate and Time:Tuesday\, January 2\, 20
 24 · 7:30 - 8:30pm EST\n\nAbout this event:\n\n 	Join Emmy\, @the_mindful
 _ot\, for a grounding evening of meditation and energy healing. Experience
  guided visualizations and breath-work under the stars. In case of rain\, 
 full refunds (minus Eventbrite fees) will be provided.\n\nDuration: 1 hour
 \n\nTicket Information:\n\n 	Payment Options:\n\n 	Pay in cash on the day 
 of the event.\n 	Zelle payment to Info@wellnessyot.com. Include your full 
 name and the date of the event in the comments to avoid Eventbrite fees.\n
 \n\n\n\nGET TICKETS\n\n\nWorkout Session Details:\n\n 	Activities:\n\n 	Me
 ditation\n 	Energy healing\n\n\n 	Location: Lawn\, under the stars\n\nEsse
 ntials to Bring:\n\n 	Large towel or blanket\n 	Support for the head\n 	An
 ything to enhance your comfort\n\nParking Options:\n\n 	Valet parking avai
 lable for $5.\n
ATTACH;FMTTYPE=image/jpeg:https://breathemiami.us/wp-content/uploads/2023/
 12/https___cdn.evbuc_.com_images_464607259_272859775238_1_original.jpg
CATEGORIES:Things To Do,Wellness Events
LOCATION:Beachcomber Resort & Club\, 1200 South Ocean Boulevard Pompano Bea
 ch\, \,  Pompano Beach\, United States\, 33062\,  FL \, United States
X-APPLE-STRUCTURED-LOCATION;VALUE=URI;X-ADDRESS=1200 South Ocean Boulevard 
 Pompano Beach\, \,  Pompano Beach\, United States\, 33062\,  FL \, United 
 States;X-APPLE-RADIUS=100;X-TITLE=Beachcomber Resort & Club:geo:0,0
END:VEVENT
BEGIN:VTIMEZONE
TZID:America/New_York
X-LIC-LOCATION:America/New_York
BEGIN:STANDARD
DTSTART:20231105T010000
TZOFFSETFROM:-0400
TZOFFSETTO:-0500
TZNAME:EST
END:STANDARD
END:VTIMEZONE
END:VCALENDAR