BEGIN:VCALENDAR
VERSION:2.0
PRODID:-//wp-events-plugin.com//7.2.3.1//EN
TZID:America/New_York
X-WR-TIMEZONE:America/New_York
BEGIN:VEVENT
UID:1076@breathemiami.us
DTSTART;TZID=America/New_York:20241110T093000
DTEND;TZID=America/New_York:20241110T103000
DTSTAMP:20241013T120512Z
URL:https://breathemiami.us/events/beach-pilates-at-faena-with-kelsey-rose
 /
SUMMARY:Beach Pilates at Faena with Kelsey Rose
DESCRIPTION:Join the vibrant shaep community on Sunday\, November 10th\, 20
 24\, at 9:30 AM for an energizing Beach Pilates class led by Kelsey Rose a
 t Faena Hotel\, Miami Beach. This 45-minute Tone + Flow session is designe
 d to sculpt\, strengthen\, and lengthen your entire body\, blending Pilate
 s-based movements with flowing sequences to help you feel both energized a
 nd balanced. The class will conclude with a calming mini-meditation\, offe
 ring the perfect way to recharge both body and mind.\n\nSponsored by Tarte
  Cosmetics and Truvani\, all participants will receive complimentary produ
 cts from both brands\, making this a special wellness experience not to be
  missed.\n\nEvent Details:\n\n 	Date &amp\; Time: Sunday\, November 10th\,
  2024\, 9:30 AM (Check-in starts at 9 AM)\n 	Location: Faena Hotel Miami B
 each – head to the beach by walking down 32nd Street (south side of the 
 Faena Hotel).\n 	Duration: 45-minute Pilates class followed by a brief med
 itation\n 	Donation: Minimum $10 (non-refundable)\n\nGet ready to work out
  with breathtaking ocean views as your backdrop! Be sure to bring your yog
 a mat\, water\, and positive energy for a morning of movement\, mindfulnes
 s\, and community.\n\nImportant Information:\n\n 	Arrival: Check-in begins
  at 9 AM. Please do not arrive before 9 AM\, as early arrival does not gua
 rantee access to the complimentary product gifting.\n 	What to Bring: Yoga
  mat and water.\n 	Parking: Available via valet at Faena Hotel or at the n
 earby municipal lot\, located one block north of Faena.\n\nThis event is a
  fantastic opportunity to connect with like-minded individuals\, enjoy a d
 ynamic workout\, and soak in the stunning Miami Beach atmosphere while sup
 porting wellness in the community. Whether you're new to Pilates or a seas
 oned practitioner\, Kelsey Rose’s class is designed to leave you feeling
  empowered\, rejuvenated\, and ready to take on the day!\n\nGET TICKETS\n
ATTACH;FMTTYPE=image/jpeg:https://breathemiami.us/wp-content/uploads/2024/
 10/Beach-Pilates-at-Faena-w-Kelsey-Rose-1.jpg
CATEGORIES:Wellness Events
LOCATION:Faena Hotel Miami Beach\, 3201 Collins Avenue Miami Beach\, Miami\
 , Florida\, 33140\, FL\, United States
X-APPLE-STRUCTURED-LOCATION;VALUE=URI;X-ADDRESS=3201 Collins Avenue Miami B
 each\, Miami\, Florida\, 33140\, FL\, United States;X-APPLE-RADIUS=100;X-T
 ITLE=Faena Hotel Miami Beach:geo:0,0
END:VEVENT
BEGIN:VTIMEZONE
TZID:America/New_York
X-LIC-LOCATION:America/New_York
BEGIN:STANDARD
DTSTART:20241103T010000
TZOFFSETFROM:-0400
TZOFFSETTO:-0500
TZNAME:EST
END:STANDARD
END:VTIMEZONE
END:VCALENDAR