BEGIN:VCALENDAR
VERSION:2.0
PRODID:-//wp-events-plugin.com//7.2.3.1//EN
TZID:America/New_York
X-WR-TIMEZONE:America/New_York
BEGIN:VEVENT
UID:909@breathemiami.us
DTSTART;TZID=America/New_York:20241006T093000
DTEND;TZID=America/New_York:20241006T103000
DTSTAMP:20240925T130830Z
URL:https://breathemiami.us/events/beach-pilates-at-faena-w-kelsey-rose/
SUMMARY:Beach Pilates at Faena w/ Kelsey Rose
DESCRIPTION:Get ready to invigorate your Sunday morning with an energizing 
 workout in a stunning beachfront setting! Join the Shaep Community on Sund
 ay\, October 6th\, 2024\, at 9:30 AM\, for a transformative 45-minute Tone
  + Flow class led by fitness expert Kelsey Rose. This Pilates-based series
  is designed to sculpt\, strengthen\, and lengthen your entire body\, help
 ing you feel toned and revitalized. The class will conclude with a mini me
 ditation session\, perfect for centering your mind and enhancing your over
 all sense of well-being.\n\nWhat to Expect:\n\n 	Tone + Flow Pilates: A dy
 namic\, full-body workout that combines Pilates-inspired moves with a flui
 d flow designed to build strength\, increase flexibility\, and improve pos
 ture.\n 	Mini Meditation: A relaxing and mindful conclusion to your workou
 t\, helping you find inner peace while surrounded by the calming sounds of
  the ocean.\n 	Stunning Oceanfront Setting: Experience the refreshing sea 
 breeze and gorgeous ocean views at Faena Beach\, providing the perfect bac
 kdrop for your fitness journey.\n\nThis event is proudly sponsored by Truv
 ani and Tarte Cosmetics\, two wellness-forward brands dedicated to support
 ing your health and beauty goals.\n\nSo grab your yoga mat\, throw on your
  favorite workout gear\, and prepare for a morning of movement\, meditatio
 n\, and inspiration by the sea!\n\nGET TICKETS\n
ATTACH;FMTTYPE=image/jpeg:https://breathemiami.us/wp-content/uploads/2024/
 09/Beach-Pilates-at-Faena-wKelsey-Rose.jpg
CATEGORIES:Sports &amp; Fitness Events,Things To Do,Wellness Events
LOCATION:Faena Hotel Miami Beach\, 3201 Collins Avenue Miami Beach\, Miami\
 , Florida\, 33140\, FL\, United States
X-APPLE-STRUCTURED-LOCATION;VALUE=URI;X-ADDRESS=3201 Collins Avenue Miami B
 each\, Miami\, Florida\, 33140\, FL\, United States;X-APPLE-RADIUS=100;X-T
 ITLE=Faena Hotel Miami Beach:geo:0,0
END:VEVENT
BEGIN:VTIMEZONE
TZID:America/New_York
X-LIC-LOCATION:America/New_York
BEGIN:DAYLIGHT
DTSTART:20240310T030000
TZOFFSETFROM:-0500
TZOFFSETTO:-0400
TZNAME:EDT
END:DAYLIGHT
END:VTIMEZONE
END:VCALENDAR