BEGIN:VCALENDAR
VERSION:2.0
PRODID:-//wp-events-plugin.com//7.2.3.1//EN
TZID:America/New_York
X-WR-TIMEZONE:America/New_York
BEGIN:VEVENT
UID:367@breathemiami.us
DTSTART;TZID=America/New_York:20240329T090000
DTEND;TZID=America/New_York:20240329T130000
DTSTAMP:20240308T191756Z
URL:https://breathemiami.us/events/be-coloring-face-pro-miami/
SUMMARY:Be.Coloring Face Pro - Miami
DESCRIPTION:Desvende os Segredos da Beleza Autêntica com o Curso de Colora
 ção Facial Be.Auth®\nDomine a arte da análise de cores e torne-se um e
 specialista em realçar a beleza natural de seus clientes. O Curso de Colo
 ração Facial Be.Auth® oferece uma jornada imersiva em um método inovad
 or que vai te capacitar para identificar as cores que mais valorizam as ca
 racterísticas únicas de cada pessoa.\nDescubra a Essência da Coloraçã
 o Facial:\n\n\n 	Mergulhe na Teoria das Cores e explore sua fascinante his
 tória.\n 	Compreenda os fundamentos da Coloração Facial e diferencie os
  diversos métodos existentes.\n 	Domine as 12 Estações Cromáticas e su
 as características singulares.\n 	Aperfeiçoe suas habilidades com técni
 cas de preparação\, materiais e sequência da análise.\n 	Crie dossiês
  personalizados com harmonias cromáticas para cada cliente.\n 	Explore as
  oportunidades de mercado\, estratégias de divulgação e precificação.
 \n\nUma Jornada de Aprendizagem Abrangente:\n\n\n 	Desfrute de módulos te
 óricos online ministrados a partir de 15 de março.\n 	Participe de um wo
 rkshop presencial em Downtown Miami no dia 29 de abril.\n 	Aprimore seus c
 onhecimentos com revisão teórica\, prática da análise e tira-dúvidas.
 \n 	Receba seu certificado oficial e comece a transformar a vida de seus c
 lientes.\n\nPara Quem Busca Aprimorar seu Talento:\n\n\n 	Personal Stylist
 s que desejam agregar a técnica ao seu portfólio.\n 	Lojistas e vendedor
 es que almejam oferecer um atendimento personalizado.\n 	Profissionais da 
 beleza como cabeleireiros\, maquiadores e consultores.\n\nOportunidades qu
 e Aguardam:\n\n\n 	Amplie seu leque de serviços e atraia novos clientes.\
 n 	Ofereça um atendimento diferenciado e personalizado.\n 	Fortaleça sua
  marca e destaque-se no mercado.\n\nJunte-se a Uma Comunidade Vibrante:\n\
 n\n 	Compartilhe conhecimentos e experiências com outros profissionais.\n
  	Inspire-se e seja inspirado por uma comunidade apaixonada pela beleza.\n
  	Faça parte de um movimento que celebra a individualidade e a beleza aut
 êntica.\n\nInscreva-se no Curso de Coloração Facial Be.Auth® e abra as
  portas para um mundo de possibilidades.\nEste curso é ideal para você s
 e:\n\n\n 	Deseja se tornar um especialista em análise de cores.\n 	Quer a
 gregar valor aos seus serviços de consultoria de estilo.\n 	Busca oferece
 r um atendimento personalizado e diferenciado aos seus clientes.\n\nCom o 
 Curso de Coloração Facial Be.Auth®\, você estará pronto para:\n\n\n 	
 Identificar as cores que mais valorizam as características de cada client
 e.\n 	Criar looks que realcem a beleza natural de cada pessoa.\n 	Oferecer
  um serviço de alta qualidade que fideliza seus clientes.\n\nNão perca e
 ssa oportunidade única de aprimorar suas habilidades e transformar sua ca
 rreira.\nInscreva-se agora!\n\n\nBUY TICKETS\n\n
ATTACH;FMTTYPE=image/jpeg:https://breathemiami.us/wp-content/uploads/2024/
 03/https___cdn.evbuc_.com_images_559358119_760969285703_1_original.jpg
CATEGORIES:Wellness Events
LOCATION:Miami - 1\, 700 Northeast 2nd Avenue \, Miami\, Florida\, 33132 \,
  United States
X-APPLE-STRUCTURED-LOCATION;VALUE=URI;X-ADDRESS=700 Northeast 2nd Avenue \,
  Miami\, Florida\, 33132 \, United States;X-APPLE-RADIUS=100;X-TITLE=Miami
  - 1:geo:0,0
END:VEVENT
BEGIN:VTIMEZONE
TZID:America/New_York
X-LIC-LOCATION:America/New_York
BEGIN:DAYLIGHT
DTSTART:20240310T030000
TZOFFSETFROM:-0500
TZOFFSETTO:-0400
TZNAME:EDT
END:DAYLIGHT
END:VTIMEZONE
END:VCALENDAR