BEGIN:VCALENDAR
VERSION:2.0
PRODID:-//wp-events-plugin.com//7.2.3.1//EN
TZID:America/New_York
X-WR-TIMEZONE:America/New_York
BEGIN:VEVENT
UID:368@breathemiami.us
DTSTART;TZID=America/New_York:20240322T100000
DTEND;TZID=America/New_York:20240322T140000
DTSTAMP:20240308T211355Z
URL:https://breathemiami.us/events/be-colorful-miami/
SUMMARY:Be.Colorful - Miami
DESCRIPTION:\nDesvende o Segredo das Cores que Realçam sua Beleza: Be.Colo
 rful\nMergulhe em uma jornada de autodescoberta e explore o poder das core
 s para realçar sua beleza natural. O Be.Colorful é um evento especial qu
 e oferece a oportunidade de realizar a Análise de Coloração Facial com 
 um desconto imperdível de 25%.\nDescubra as Cores que Harmonizam com Voc
 ê:\n\n\n 	Atendimento individual de 1 hora com um especialista em colora
 ção facial.\n 	Ambiente acolhedor com espelho e iluminação adequada pa
 ra uma análise precisa.\n 	Análise personalizada que leva em consideraç
 ão suas características únicas\, como pele\, cabelo e olhos.\n\nReceba 
 um Kit Completo para Aprimorar seu Estilo:\n\n\n 	Cartela de cores digital
  com as cores que mais te favorecem.\n 	Material digital complementar com 
 instruções detalhadas sobre:\n\n 	Características da sua cartela de cor
 es.\n 	Como usar as cores em roupas\, cabelo e maquiagem.\n 	Combinações
  de cores para criar looks incríveis.\n 	Dicas para usar o círculo crom
 ático e ampliar suas possibilidades.\n 	Pasta de inspiração online com 
 exemplos de looks para cada cartela de cores.\n\n\n\nBenefícios que Trans
 formam:\n\n\n 	Realce sua beleza natural e sinta-se mais confiante.\n 	Des
 cubra as cores que te energizam e te fazem brilhar.\n 	Aprenda a combinar 
 cores com maestria e crie looks impecáveis.\n 	Otimize seu tempo e dinhei
 ro ao escolher peças que realmente te valorizam.\n 	Invista em si mesma e
  no seu bem-estar.\n\nO Be.Colorful é ideal para você se:\n\n\n 	Deseja 
 descobrir quais cores te favorecem.\n 	Quer aprimorar seu estilo e imagem 
 pessoal.\n 	Busca dicas de como usar cores de forma estratégica.\n 	Almej
 a se sentir mais confiante e segura de si.\n\nParticipe do Be.Colorful e l
 iberte a beleza que existe em você!\nInformações Adicionais:\n\n\n 	Dat
 a: [Insira a data do evento]\n 	Local: [Insira o local do evento]\n 	Valor
 : [Insira o valor do evento]\n 	Desconto: 25% off\n 	Inscrições: [Insira
  o link para inscrição]\n\nNão perca essa oportunidade única de descob
 rir as cores que te fazem ainda mais linda!\nNote: This paraphrase expands
  on the original content by providing additional details about the event b
 enefits\, what participants will receive\, and who should attend. It also 
 includes a call to action and information on how to register.\n\n\n\n\nGET
  TICKETS\n
ATTACH;FMTTYPE=image/jpeg:https://breathemiami.us/wp-content/uploads/2024/
 03/https___cdn.evbuc_.com_images_635221729_760969285703_1_original.jpg
CATEGORIES:Wellness Events
LOCATION:Northeast Dade - Aventura Branch Library\, 2930 Northeast 199th St
 reet \, Miami\, Florida\, 33180\, United States
X-APPLE-STRUCTURED-LOCATION;VALUE=URI;X-ADDRESS=2930 Northeast 199th Street
  \, Miami\, Florida\, 33180\, United States;X-APPLE-RADIUS=100;X-TITLE=Nor
 theast Dade - Aventura Branch Library:geo:0,0
END:VEVENT
BEGIN:VTIMEZONE
TZID:America/New_York
X-LIC-LOCATION:America/New_York
BEGIN:DAYLIGHT
DTSTART:20240310T030000
TZOFFSETFROM:-0500
TZOFFSETTO:-0400
TZNAME:EDT
END:DAYLIGHT
END:VTIMEZONE
END:VCALENDAR