BEGIN:VCALENDAR
VERSION:2.0
PRODID:-//wp-events-plugin.com//7.2.3.1//EN
TZID:America/New_York
X-WR-TIMEZONE:America/New_York
BEGIN:VEVENT
UID:182@breathemiami.us
DTSTART;TZID=America/New_York:20231206T000000
DTEND;TZID=America/New_York:20231209T000000
DTSTAMP:20240907T180712Z
URL:https://breathemiami.us/events/basel-house-by-fabel-miami/
SUMMARY:Basel House by Fabel Miami
DESCRIPTION:Miami's cultural landscape is set to be ignited with Fabel Miam
 i's Basel House event\, a multidisciplinary showcase that spans art\, desi
 gn\, fashion\, and gastronomy. From December 6th to the 9th\, this curated
  event will unfold at 50 NW 23rd St\, offering an array of experiences:\n\
 n 	December 6th: The Basel House experience begins with a bang as Fabel Mi
 ami commemorates its first anniversary. The celebration includes:\n\n 	A g
 rand anniversary party.\n 	An after-party with live music by local DJs to 
 dance the night away.\n\n\n 	December 7th: Style takes center stage with t
 he Art Hearts Fashion Show\, accompanied by:\n\n 	A sophisticated dinner p
 arty.\n 	A runway show featuring contemporary fashion designs.\n\n\n 	Dece
 mber 8th: A day dedicated to the fusion of art and culinary arts\, featuri
 ng:\n\n 	'Brunch en Blanc'—a thematic white attire brunch.\n 	Exclusive 
 sommelier wine-tasting sessions.\n 	Live entertainment and DJ sets to ener
 gize the crowd.\n 	Artist talks and installations\, offering insight into 
 the creative process.\n 	An evening gospel dinner party with the musical t
 alents of Guy Gerber.\n 	A closing gospel after-party for attendees to min
 gle and unwind.\n\n\n 	December 9th: The focus shifts to wellness and reco
 very\, providing:\n\n 	The 'Beautology Lab'—showcases the latest in beau
 ty and wellness.\n 	'Sound Bath Meditation' sessions for relaxation and mi
 ndfulness.\n 	Biohacking experiences by Higher Dose to explore new wellnes
 s technologies.\n 	Fitness classes hosted by Anatomy Gym for the actively 
 inclined.\n 	Recovery sessions by Remedy Place\, are perfect for rejuvenat
 ion.\n 	The final note is a Fabel dinner party\, encapsulating the essence
  of the event.\n\n\n\nBasel House by Fabel Miami is not just an event\; it
 's a narrative of cultural expression\, a place where art\, fashion\, and 
 wellness converge to celebrate the vibrant diversity of Miami. Each day is
  meticulously crafted to inspire and foster community connections\, leavin
 g an indelible mark on all who partake in this unforgettable Miami traditi
 on.\n\n&nbsp\;\n\n&nbsp\;\n\nGET TICKETS\n
ATTACH;FMTTYPE=image/jpeg:https://breathemiami.us/wp-content/uploads/2023/
 11/577dc233-27ad-4b57-831b-a088d956faaa.jpg
CATEGORIES:Things To Do
LOCATION:Fabel Miami\, 50 NW 23rd St\, Miami\, Florida\, 33127\, Florida\, 
 United States
X-APPLE-STRUCTURED-LOCATION;VALUE=URI;X-ADDRESS=50 NW 23rd St\, Miami\, Flo
 rida\, 33127\, Florida\, United States;X-APPLE-RADIUS=100;X-TITLE=Fabel Mi
 ami:geo:0,0
END:VEVENT
BEGIN:VTIMEZONE
TZID:America/New_York
X-LIC-LOCATION:America/New_York
BEGIN:STANDARD
DTSTART:20231105T010000
TZOFFSETFROM:-0400
TZOFFSETTO:-0500
TZNAME:EST
END:STANDARD
END:VTIMEZONE
END:VCALENDAR