BEGIN:VCALENDAR
VERSION:2.0
PRODID:-//wp-events-plugin.com//7.2.3.1//EN
TZID:America/New_York
X-WR-TIMEZONE:America/New_York
BEGIN:VEVENT
UID:797@breathemiami.us
DTSTART;TZID=America/New_York:20240902T060000
DTEND;TZID=America/New_York:20240902T083000
DTSTAMP:20240827T070418Z
URL:https://breathemiami.us/events/balance-4-bliss-sunrise-cacao-ceremony/
SUMMARY:Balance 4 Bliss ~ Sunrise & Cacao Ceremony
DESCRIPTION:What to Expect\n\n 	Guided Meditation: Start your morning with 
 a calming meditation session designed to center your mind and align your e
 nergy with the rising sun.\n 	One-on-One Activities: Engage in meaningful 
 one-on-one interactions that foster deeper connections and personal insigh
 ts.\n 	Ceremonial Cacao: Partake in a traditional cacao ceremony\, honorin
 g the ancient practice that opens the heart\, enhances focus\, and brings 
 clarity to your life’s journey.\n 	Breathing Exercises: Deepen your conn
 ection to your body and breath with focused breathing techniques that prom
 ote relaxation and mindfulness.\n 	Light Yoga/Intentional Floating: Enjoy 
 a gentle yoga flow or experience intentional floating\, allowing your body
  to move with purpose and ease.\n 	Journaling: Reflect on your experiences
  and insights through guided journaling prompts that encourage self-expres
 sion and personal growth.\n 	Group Discussion: Share your thoughts and exp
 eriences in a supportive group setting\, fostering a sense of community an
 d collective understanding.\n\nWhat is a Cacao Ceremony? A cacao ceremony 
 is a sacred practice that celebrates the true essence of cacao\, a powerfu
 l plant medicine. During the ceremony\, participants drink a specially pre
 pared cacao beverage with the intention of opening the heart\, enhancing f
 ocus\, expanding consciousness\, and gaining clarity on their life journey
 . To fully embrace the transformative power of cacao\, it is recommended t
 o experience it within the context of a ceremony.\n\nKris Catalyst’s cer
 emonial cacao is crafted with high-quality\, ceremonial-grade cacao source
 d from Ecuador. This cacao is grown organically\, free of pesticides\, and
  undergoes a mindful process from cultivation to fermentation. The drink i
 s lovingly prepared with spring water and infused with delicious spices\, 
 all brewed with pure intentions of love and healing.\n\nWhen consumed in t
 he right amount and in a communal setting\, ceremonial cacao can act as a 
 powerful catalyst for personal growth. It helps release emotional blockage
 s and supports your journey towards greater self-awareness and compassion.
 \n\nKris’s ceremony beautifully combines cacao with music\, ecstatic dan
 ce\, yoga\, meditation\, and other heart-opening activities. This immersiv
 e experience encourages vulnerability and fosters a deeper connection to y
 ourself and others. Join The Woods and your community in this sacred space
  as we share\, connect\, and blossom together as one unified collective.\n
 \nGET TICKETS\n
ATTACH;FMTTYPE=image/jpeg:https://breathemiami.us/wp-content/uploads/2024/
 08/Balance-4-Bliss-Sunrise-Cacao-Ceremony.jpg
CATEGORIES:Mindfulness Events,Nature Events,Things To Do,Wellness Events
LOCATION:On the beach\, 7501 Collins Avenue Miami Beach\, Miami\, Florida\,
  33141\, FL\, United States
X-APPLE-STRUCTURED-LOCATION;VALUE=URI;X-ADDRESS=7501 Collins Avenue Miami B
 each\, Miami\, Florida\, 33141\, FL\, United States;X-APPLE-RADIUS=100;X-T
 ITLE=On the beach:geo:0,0
END:VEVENT
BEGIN:VTIMEZONE
TZID:America/New_York
X-LIC-LOCATION:America/New_York
BEGIN:DAYLIGHT
DTSTART:20240310T030000
TZOFFSETFROM:-0500
TZOFFSETTO:-0400
TZNAME:EDT
END:DAYLIGHT
END:VTIMEZONE
END:VCALENDAR