BEGIN:VCALENDAR
VERSION:2.0
PRODID:-//wp-events-plugin.com//7.2.3.1//EN
TZID:America/New_York
X-WR-TIMEZONE:America/New_York
BEGIN:VEVENT
UID:469@breathemiami.us
DTSTART;TZID=America/New_York:20240524T200000
DTEND;TZID=America/New_York:20240526T230000
DTSTAMP:20240504T150405Z
URL:https://breathemiami.us/events/bad-bunny/
SUMMARY:BAD BUNNY
DESCRIPTION:\nBad Bunny Brings the Heat: The Most Wanted Tour Blazes into M
 iami\nCalling all Benito Antonio Martínez Ocasio fans – brace yourselve
 s! The global phenomenon known as Bad Bunny is descending upon Miami for a
  scorching three-night residency\, May 24th to 26th\, at the electrifying 
 Kaseya Center. This highly anticipated stop is part of his colossal Most W
 anted Tour\, bringing the chart-topping artist and his electrifying live s
 how to his legions of Miami admirers.\nA Musical Force:\n\n\n 	Global Supe
 rstar: Bad Bunny has taken the world by storm\, shattering records and est
 ablishing himself as one of the biggest names in music today. His infectio
 us blend of Latin trap and reggaeton\, coupled with his captivating stage 
 presence\, guarantees an unforgettable concert experience.\n 	Most Wanted 
 Tour: This tour promises a spectacular showcase of Bad Bunny's musical pro
 wess. Expect a high-energy setlist featuring his biggest hits\, from the i
 nfectious rhythms of "Yo Perreo Sola" to the heart-thumping beats of "La C
 ancion."\n 	Celebrating "Nadie Sabe Lo Que Va a Pasar Mañana": Get ready 
 to hear electrifying renditions from Bad Bunny's latest studio album\, Nad
 ie Sabe Lo Que Va a Pasar Mañana (Nobody Knows What Tomorrow Holds). This
  critically acclaimed album showcases his artistic evolution and promises 
 fresh energy to his live performance.\n\nBeyond the Music:\n\n\n 	A Visual
  Spectacle: Bad Bunny's concerts are known for their dazzling visuals. Exp
 ect a stage production that complements the music\, creating a truly immer
 sive experience for the audience.\n 	A Cultural Phenomenon: This concert i
 s more than just a performance\; it's a celebration of Bad Bunny's cultura
 l impact. Witness the energy and passion of his dedicated fanbase as they 
 come together to sing along to their favorite songs.\n 	An Unforgettable N
 ight in Miami: Don't miss this rare opportunity to experience Bad Bunny's 
 electrifying live show in the vibrant city of Miami.\n\nPrepare to be capt
 ivated:\nThe Most Wanted Tour promises to be an unforgettable event\, offe
 ring fans a chance to:\n\n\n 	Witness the power of Bad Bunny's live perfor
 mance: Immerse yourself in the electrifying energy of his music and stage 
 presence.\n 	Sing along to your favorite hits: Belt out your favorite Bad 
 Bunny songs alongside a passionate crowd.\n 	Experience a cultural phenome
 non: Be part of the global Bad Bunny movement and celebrate his artistic v
 ision.\n 	Create lasting memories: This concert is sure to leave a lasting
  impression on all who attend.\n\nMark your calendars and secure your tick
 ets! Don't miss Bad Bunny's scorching Miami residency as part of the Most 
 Wanted Tour!\n\n\n\nBUY TICKETS\n
ATTACH;FMTTYPE=image/jpeg:https://breathemiami.us/wp-content/uploads/2024/
 05/Microphone-music-fallbackimage_1440x900_3E8A4912-0C73-F62B-B52E5F61E083
 3160_3e8c45c1-a129-3248-df1b157956008b0f.jpg
CATEGORIES:Things To Do,Wellness Events
LOCATION:KASEYA CENTER\, 601 Biscayne Blvd.\, Miami\, Florida\, 33132\, Uni
 ted States
X-APPLE-STRUCTURED-LOCATION;VALUE=URI;X-ADDRESS=601 Biscayne Blvd.\, Miami\
 , Florida\, 33132\, United States;X-APPLE-RADIUS=100;X-TITLE=KASEYA CENTER
 :geo:0,0
END:VEVENT
BEGIN:VTIMEZONE
TZID:America/New_York
X-LIC-LOCATION:America/New_York
BEGIN:DAYLIGHT
DTSTART:20240310T030000
TZOFFSETFROM:-0500
TZOFFSETTO:-0400
TZNAME:EDT
END:DAYLIGHT
END:VTIMEZONE
END:VCALENDAR