BEGIN:VCALENDAR
VERSION:2.0
PRODID:-//wp-events-plugin.com//7.2.3.1//EN
TZID:America/New_York
X-WR-TIMEZONE:America/New_York
BEGIN:VEVENT
UID:1024@breathemiami.us
DTSTART;TZID=America/New_York:20241025T090000
DTEND;TZID=America/New_York:20241025T100000
DTSTAMP:20241008T092638Z
URL:https://breathemiami.us/events/bachelorette-yoga-oceanside-experience/
SUMMARY:Bachelorette Yoga Oceanside Experience
DESCRIPTION:Bachelorette Yoga Oceanside Experience\n\nFor those planning a 
 bachelorette party in Miami\, the Bachelorette Yoga Oceanside Experience o
 ffers a unique and memorable way to kick off the weekend. Attendees can ch
 oose from various options\, including a specialized yoga session\, sound h
 ealing\, or a Sacred Feminine Circle. Alternatively\, guests may opt for a
  combination of all three experiences for a truly exceptional celebration.
 \n\nThese oceanside sessions provide the ideal mix of fun\, relaxation\, a
 nd adventure\, set against the stunning backdrop of Miami Beach. Participa
 nts are invited to join a vibrant and rejuvenating yoga class tailored spe
 cifically for bachelorette parties. Under the guidance of experienced inst
 ructors\, guests will unwind\, stretch\, and bond with friends while enjoy
 ing the beautiful South Beach atmosphere.\n\nThis celebration is designed 
 to help the bride-to-be leave behind any wedding planning stress and conne
 ct with her body and mind in a serene environment. It's an opportunity to 
 create lasting memories with friends before embarking on the journey of ma
 rriage.\n\nReserve your spot now for Bachelorette Yoga at Miami Beach - So
 uth Beach\, Miami Beach\, FL!\n\nOUR OFFERINGS:\n\n 	Beach Yoga Class (60 
 minutes\, Max of 12 participants)\nA fun\, informal yoga class designed to
  bring friends and family together for unforgettable moments. All skill le
 vels are welcome.\nFee: $250 (includes photos)\n 	Beach Yoga + Sound Heali
 ng Meditation (60 minutes\, Max of 12 participants)\nBegin your celebratio
 n with gentle stretches by the sea\, accompanied by a soothing sound bath 
 that promotes relaxation and well-being. Reflect on the joy ahead with you
 r closest friends.\nFee: $400 (includes flowers and photos)\n 	Beach Yoga 
 + Sound Healing + Sacred Feminine Circle (90 minutes\, Max of 12 participa
 nts)\nThis immersive experience combines yoga\, sound healing meditation\,
  and a heartfelt sacred feminine ceremony honoring the bride-to-be. Guests
  will share meaningful moments of connection.\nFee: $550 (includes a flowe
 r crown for the bride\, affirmation cards for participants\, a special cen
 terpiece\, a self-love meditation\, and ginger shots for a healthy conclus
 ion)\n\nIf your group exceeds 12 participants or you need to schedule a di
 fferent day or time\, please contact us for arrangements. We’re happy to
  accommodate your needs!\n\nFor fee-free booking\, please email us\; payme
 nts can be made via Venmo. Pricing covers the entire event for a maximum o
 f 12 participants. Note that a cancellation fee of $120 is non-refundable.
 \n\nContact:\nEmail: lightrailyoga@gmail.com\nSubject: Bachelorette Yoga R
 equest\n\nYour Teacher and Goddess Guide:\nRadha-Krishna Lila (Cristiane S
 ilva) is a native Brazilian who transitioned from a law career to pursue h
 er passion for dance and yoga. After discovering yogic practices through B
 hakti Yoga at age 26\, she deepened her knowledge by studying Hatha Yoga u
 nder the guidance of master yogi Sri Dharma Mittra. With over 25 years of 
 experience in yoga\, meditation\, and healing modalities\, Radha is also a
  co-founder of Lightrail Yoga\, offering teacher trainings and online prog
 rams.\n\nIn her spare time\, Radha enjoys preparing delicious vegan meals\
 , crafting healthy juices and smoothies\, and exploring the world with her
  partner\, embracing nature and different cultures.\n\nFollow Radha on Ins
 tagram:\n\n 	@radha_krishnalila\n 	@sacred_feminine_gathering\n\nExplore m
 ore at:\nwww.lightrailyoga.com\n\nGET TICKETS\n
ATTACH;FMTTYPE=image/jpeg:https://breathemiami.us/wp-content/uploads/2024/
 10/Bachelorette-Yoga-Oceanside-Experience.jpg
CATEGORIES:Yoga Events
LOCATION:Miami Beach\,  South Beach\, Miami Beach\, Florida\, 33139\,  FL \
 , United States
X-APPLE-STRUCTURED-LOCATION;VALUE=URI;X-ADDRESS= South Beach\, Miami Beach\
 , Florida\, 33139\,  FL \, United States;X-APPLE-RADIUS=100;X-TITLE=Miami 
 Beach:geo:0,0
END:VEVENT
BEGIN:VTIMEZONE
TZID:America/New_York
X-LIC-LOCATION:America/New_York
BEGIN:DAYLIGHT
DTSTART:20240310T030000
TZOFFSETFROM:-0500
TZOFFSETTO:-0400
TZNAME:EDT
END:DAYLIGHT
END:VTIMEZONE
END:VCALENDAR