BEGIN:VCALENDAR
VERSION:2.0
PRODID:-//wp-events-plugin.com//7.2.3.1//EN
TZID:America/New_York
X-WR-TIMEZONE:America/New_York
BEGIN:VEVENT
UID:978@breathemiami.us
DTSTART;TZID=America/New_York:20241017T150000
DTEND;TZID=America/New_York:20241017T170000
DTSTAMP:20241003T100828Z
URL:https://breathemiami.us/events/bachelorette-celebrations-yoga-and-more
 -beach-or-your-location/
SUMMARY:Bachelorette Celebrations: Yoga and More @ Beach or Your Location
DESCRIPTION:Bachelorette Celebrations: Yoga &amp\; Fitness with Lisa Pumper
  offers a unique and personalized way to celebrate your special day\, blen
 ding wellness\, fun\, and relaxation. Whether you're looking to kick off t
 he festivities or unwind after the excitement\, these customized bachelore
 tte yoga and fitness sessions are designed to create unforgettable memorie
 s.\n\nHeld at a scenic beach location or at your preferred spot—whether 
 it’s a hotel\, home\, yacht\, beach\, or park—these events are curated
  by Lisa Pumper\, a highly experienced yoga educator and event producer wi
 th over 16 years of expertise. Each session is tailored for the bride and 
 her tribe\, offering a holistic blend of fitness\, relaxation\, and pamper
 ing\, all set to customized themes that suit your group’s vibe.\n\nThe e
 vents typically feature a 75+ minute yoga or fitness class\, including a w
 arm-up\, flowing yoga or fitness routine\, and a relaxing cool-down with g
 uided meditation. Using a high-quality PA system\, Lisa and her team ensur
 e that the group can fully immerse in the experience with everything from 
 eastern healing music to western jams. To refresh and recharge\, aromather
 apy is offered at the end of the session. The bride will also receive a sp
 ecial gift\, and the event is captured in photos or videos to preserve the
  memories.\n\nPersonalized touches include decor and welcome signs (for be
 ach events) as well as options for custom add-ons such as sound healing\, 
 massage\, and gift bags. Whether you're celebrating with a small group of 
 14 or hosting a large-scale event of up to 1\,000 people\, the experience 
 is tailored to fit your needs. Lisa and her team can even organize Bollywo
 od Fusion Dance or Shuffle Dance Workouts for a fun and energetic twist!\n
 \nWhat to bring:\n\n 	Large beach towel (yoga mats available for rent)\n 	
 Comfortable clothing or swimsuits\n 	Water to stay hydrated\n 	Sunglasses\
 , sunscreen\, and hat for outdoor events\n\nLisa Pumper\, E-RYT500\, has b
 een a full-time yoga educator for 25 years and has specialized in bachelor
 ette and private group events in South Florida. Her team\, powered by Yoga
  cOMmUNITY Florida\, is dedicated to providing exceptional experiences tha
 t nurture both the body and soul.\n\nFor more details and early booking di
 scounts\, visit BeachYogaFit.com and learn how you can make this magical m
 emory come to life for the bride and her tribe!\n\nHashtags: #Bachelorette
 Yoga #BacheloretteBeachYoga #WellnessCelebration #YogaParty\n\nGET TICKETS
 \n
ATTACH;FMTTYPE=image/jpeg:https://breathemiami.us/wp-content/uploads/2024/
 10/Bachelorette-Celebrations-Yoga-and-More-@-Beach-or-Your-Location.jpg
CATEGORIES:Yoga Events
LOCATION:The beach\, 2501 N Ocean Dr\, Hollywood\, Florida\, 33019\, FL\, U
 nited States
X-APPLE-STRUCTURED-LOCATION;VALUE=URI;X-ADDRESS=2501 N Ocean Dr\, Hollywood
 \, Florida\, 33019\, FL\, United States;X-APPLE-RADIUS=100;X-TITLE=The bea
 ch:geo:0,0
END:VEVENT
BEGIN:VTIMEZONE
TZID:America/New_York
X-LIC-LOCATION:America/New_York
BEGIN:DAYLIGHT
DTSTART:20240310T030000
TZOFFSETFROM:-0500
TZOFFSETTO:-0400
TZNAME:EDT
END:DAYLIGHT
END:VTIMEZONE
END:VCALENDAR