BEGIN:VCALENDAR
VERSION:2.0
PRODID:-//wp-events-plugin.com//7.2.3.1//EN
TZID:America/New_York
X-WR-TIMEZONE:America/New_York
BEGIN:VEVENT
UID:665@breathemiami.us
DTSTART;TZID=America/New_York:20240808T194500
DTEND;TZID=America/New_York:20240808T204500
DTSTAMP:20240804T091629Z
URL:https://breathemiami.us/events/ayurvedic-beverage-tasting-session-with
 -komal-dadlani/
SUMMARY:Ayurvedic Beverage Tasting Session with Komal Dadlani
DESCRIPTION:Join us for an enlightening Ayurvedic Beverage Tasting Session 
 led by the esteemed Komal Dadlani\, where participants will explore the he
 aling properties of traditional ingredients through five essential recipes
 . This interactive workshop will guide you in creating soothing and health
 -promoting drinks that align with Ayurvedic principles.\n\nEvent Details:\
 n\nDate and Time:\nFriday\, August 9th\, 2024\n7:45 PM - 8:45 PM\n\nCost:\
 n\n 	MLC Members: $20\n 	Non-Members: $25\n\nWorkshop Highlights:\n\nRecip
 e Exploration:\n\n 	Ayurvedic Coffee Replacement: Discover a delightful al
 ternative to coffee that maintains energy while supporting balance.\n 	Ins
 omnia-Pacifying Golden Milk: Learn to prepare this calming drink that prom
 otes restful sleep and relaxation.\n 	Reflux-Pacifying Date Water: A sooth
 ing remedy to ease reflux and support digestive health.\n 	Summer-Pacifyin
 g Rose &amp\; Fennel Water: Ideal for alleviating hot flashes and cooling 
 the body during the warmer months.\n 	Gut-Balancing Buttermilk: A benefici
 al drink for improving digestion and maintaining gut health.\n\nWhat to Ex
 pect:\n\n 	Expert Guidance: Komal Dadlani will share her knowledge of Ayur
 vedic ingredients and their medicinal benefits.\n 	Hands-On Learning: Enga
 ge in the preparation of each beverage\, gaining practical skills and insi
 ghts.\n 	Health Insights: Understand how each drink supports overall well-
 being and aligns with Ayurvedic practices.\n\nCancellation Policy:\nCancel
 lations are accepted up to 30 days prior to the workshop\, with a full ref
 und minus a 10% processing fee. No refunds will be provided for cancellati
 ons within 30 days of the event.\n\nJoin Us:\nDon’t miss this opportunit
 y to deepen your understanding of Ayurvedic principles and enjoy a range o
 f therapeutic beverages. Secure your spot today and embark on a journey of
  wellness with Komal Dadlani’s expert guidance.\n\nFeel free to contact 
 us for more information or to reserve your place. We look forward to welco
 ming you to this enriching experience!\n\nGET TICKETS\n
ATTACH;FMTTYPE=image/jpeg:https://breathemiami.us/wp-content/uploads/2024/
 08/Ayurvedic-Beverage-Tasting-Session-with-Komal-Dadlani.jpg
LOCATION:Miami Yoga Garage\, 1940 NW Miami Ct Miami\, Miami\, FL\, 33136\, 
 Florida\, United States
X-APPLE-STRUCTURED-LOCATION;VALUE=URI;X-ADDRESS=1940 NW Miami Ct Miami\, Mi
 ami\, FL\, 33136\, Florida\, United States;X-APPLE-RADIUS=100;X-TITLE=Miam
 i Yoga Garage:geo:0,0
END:VEVENT
BEGIN:VTIMEZONE
TZID:America/New_York
X-LIC-LOCATION:America/New_York
BEGIN:DAYLIGHT
DTSTART:20240310T030000
TZOFFSETFROM:-0500
TZOFFSETTO:-0400
TZNAME:EDT
END:DAYLIGHT
END:VTIMEZONE
END:VCALENDAR