BEGIN:VCALENDAR
VERSION:2.0
PRODID:-//wp-events-plugin.com//7.2.3.1//EN
TZID:America/New_York
X-WR-TIMEZONE:America/New_York
BEGIN:VEVENT
UID:273@breathemiami.us
DTSTART;TZID=America/New_York:20240106T160000
DTEND;TZID=America/New_York:20240106T180000
DTSTAMP:20231227T203634Z
URL:https://breathemiami.us/events/ayurveda-food-workshop/
SUMMARY:Ayurveda & Food Workshop
DESCRIPTION:Event Information:\n\n\n\n\n\n\n\n\n\n\n\n\n\nEmbark on a journ
 ey to harmonize your health and wellness through the profound teachings of
  Ayurveda and Yoga at our immersive workshop. Guided by Más Vidal\, a sea
 soned expert with 30 years of experience in Ayurveda Studies &amp\; Lifest
 yle\, this event is a gateway to understanding and applying nature's wisdo
 m for a balanced and harmonious life.\n\n\n\n\n\n\n\n\n\n\n\n\n\nDate and 
 Time:Saturday\, January 6\, 2024 · 4 - 6pm ES\n\nAbout this event:\n\n 	D
 elve into the profound wisdom of Ayurveda and Yoga\, discovering the timel
 ess principles that promote holistic well-being. Learn to synchronize with
  the rhythms of nature to enhance balance\, vitality\, and lasting harmony
  in your lifestyle.\n\nTotal Duration: 2 Hour\n\nTicket Information:\n\n 	
 Cost: Details about ticket pricing are not provided.\n\n\nGET TICKETS\n\n\
 nWorkout Session Details:\n\n 	Explore the rhythms of nature and learn to 
 synchronize with them for enhanced balance\, vitality\, and lasting harmon
 y.\n 	The workshop spans 2 hours and promises an immersive experience in A
 yurvedic principles.\n\nEssentials to Bring:\n\n 	Specific requirements fo
 r participants to bring are not mentioned. Attendees are encouraged to che
 ck for any specific instructions from the organizer.\n\nParking Options:\n
 \n 	Parking details for Abhaya Holistic Center are not specified in the pr
 ovided content. Attendees are advised to check with the venue or organizer
  for parking information.\n
ATTACH;FMTTYPE=image/jpeg:https://breathemiami.us/wp-content/uploads/2023/
 12/https___cdn.evbuc_.com_images_650284859_284340563105_1_original.jpg
CATEGORIES:Things To Do,Wellness Events
LOCATION:Abhaya Holistic Center\, 7313 SW 59th Ct. South Miami\,\, Avenue M
 iami\, Unitef State\, 33143 \,  FL \, United States
X-APPLE-STRUCTURED-LOCATION;VALUE=URI;X-ADDRESS=7313 SW 59th Ct. South Miam
 i\,\, Avenue Miami\, Unitef State\, 33143 \,  FL \, United States;X-APPLE-
 RADIUS=100;X-TITLE=Abhaya Holistic Center:geo:0,0
END:VEVENT
BEGIN:VTIMEZONE
TZID:America/New_York
X-LIC-LOCATION:America/New_York
BEGIN:STANDARD
DTSTART:20231105T010000
TZOFFSETFROM:-0400
TZOFFSETTO:-0500
TZNAME:EST
END:STANDARD
END:VTIMEZONE
END:VCALENDAR