BEGIN:VCALENDAR
VERSION:2.0
PRODID:-//wp-events-plugin.com//7.2.3.1//EN
TZID:America/New_York
X-WR-TIMEZONE:America/New_York
BEGIN:VEVENT
UID:300@breathemiami.us
DTSTART;TZID=America/New_York:20240107T160000
DTEND;TZID=America/New_York:20240107T170000
DTSTAMP:20231227T200942Z
URL:https://breathemiami.us/events/awakening-wellness-workshop/
SUMMARY:Awakening Wellness Workshop
DESCRIPTION:Event Information:\n\n\n\n\n\n\n\n\n\n\n\n\n\n\n\n\n\n\n\n\n\n\
 n\n\n\nEmbark on a transformative journey with Sama Shakti &amp\; Nikki Ha
 as as they invite you to a gathering at Chakra Bowls\, a unique space wher
 e clarity for the upcoming year\, 2024\, awaits. Together\, Sama and Nikki
  will guide you through an experience designed to unveil your vision for t
 he future\, employing a blend of energy techniques\, breathing exercises\,
  and mindful practices. Join this enlightening session to align yourself w
 ith the wisdom of the present moment and set a clear path for the manifest
 ation of your aspirations in 2024.\n\n\n\n\n\n\n\n\n\n\n\n\n\n\n\n\n\n\n\n
 \n\n\n\n\n\nDate and Time:Sunday\, January 7\, 2024 · 4 - 5pm EST\n\nAbou
 t this event:\n\n 	Join Sama Shakti &amp\; Nikki Haas for a transformative
  gathering at Chakra Bowls\, where you'll embark on a journey to clarify y
 our vision for 2024. This workshop is designed to guide participants throu
 gh energy and breathing techniques\, grounding and centering practices\, a
 nd self-reflection. As we step into the New Year\, Sama and Nikki will lea
 d you in connecting with divine wisdom\, raising collective awareness\, an
 d setting intentions for a fulfilling path ahead.\n\nTotal Duration: 1 hou
 r\n\nTicket Information:\n\n 	Ticket Type: Mobile eTicket\n\n\nGET TICKETS
 \n\n\nWorkout Session Details:\n\n 	Sama and Nikki will expertly guide par
 ticipants through various energy and breathing techniques aimed at groundi
 ng and centering the self. The workshop includes a guided meditation sessi
 on followed by reflective journaling prompts. These practices draw inspira
 tion from the Awakening Wellness Lifestyle &amp\; Yoga Retreat\, fostering
  self-discovery and clarity in envisioning the path ahead for the coming y
 ear.\n\nEssentials to Bring:\n\n 	Participants are encouraged to bring a j
 ournal or writing materials for the reflective exercises. Wear comfortable
  clothing suitable for gentle movement and relaxation.\n\nParking Options:
 \n\n 	Parking is available at Chakra Bowls\, located at 36 Eastdale Avenue
  North\, Poughkeepsie\, NY 12603. Attendees are advised to check for speci
 fic parking instructions or details provided by the organizer closer to th
 e event date.\n
ATTACH;FMTTYPE=image/jpeg:https://breathemiami.us/wp-content/uploads/2023/
 12/https___cdn.evbuc_.com_images_655017379_279729617854_1_original.jpg
CATEGORIES:Wellness Events
LOCATION:Chakra Bowls\, 36 Eastdale Avenue North Poughkeepsie\, \, Poughkee
 psie\, United States\, 12603 \,  FL \, United States
X-APPLE-STRUCTURED-LOCATION;VALUE=URI;X-ADDRESS=36 Eastdale Avenue North Po
 ughkeepsie\, \, Poughkeepsie\, United States\, 12603 \,  FL \, United Stat
 es;X-APPLE-RADIUS=100;X-TITLE=Chakra Bowls:geo:0,0
END:VEVENT
BEGIN:VTIMEZONE
TZID:America/New_York
X-LIC-LOCATION:America/New_York
BEGIN:STANDARD
DTSTART:20231105T010000
TZOFFSETFROM:-0400
TZOFFSETTO:-0500
TZNAME:EST
END:STANDARD
END:VTIMEZONE
END:VCALENDAR