BEGIN:VCALENDAR
VERSION:2.0
PRODID:-//wp-events-plugin.com//7.2.3.1//EN
TZID:America/New_York
X-WR-TIMEZONE:America/New_York
BEGIN:VEVENT
UID:353@breathemiami.us
DTSTART;TZID=America/New_York:20240316T090000
DTEND;TZID=America/New_York:20240316T190000
DTSTAMP:20240303T172514Z
URL:https://breathemiami.us/events/awaken-to-wellness-retreat/
SUMMARY:Awaken To Wellness Retreat
DESCRIPTION:Awaken To Wellness: A Transformative Retreat for Women in South
  Florida\nEscape to a vibrant sanctuary of self-care and personal growth a
 t the Awaken To Wellness Retreat. This in-person event in South Florida in
 vites you to embrace wellness in a fun and interactive way.\nSpark your we
 ll-being journey with:\n\n\n 	Invigorating yoga and pilates sessions\n 	En
 lightening meditation and sound healing experiences\n 	Empowering workshop
 s on EFT\, hypnosis\, goal setting\, and more\n 	Delicious and healthy me
 als and snacks\n 	Opportunities to connect with like-minded women who sha
 re your passion for living a balanced life\n 	Access to a variety of welln
 ess services: sauna\, red light therapy\, sound baths\, and more\n\nAwake
 n To Wellness empowers you to:\n\n\n 	Become the architect of your happine
 ss\n 	Reach your highest potential\n 	Discover a renewed sense of purpose\
 n\nJoin us for a day of self-discovery\, rejuvenation\, and positive energ
 y.\nVisit the Awaken To Wellness Website: link to the website to learn mor
 e and register!\nWe look forward to welcoming you\, Laura &amp\; Kayla.\n\
 n\nGET TICKETS\n\n
ATTACH;FMTTYPE=image/jpeg:https://breathemiami.us/wp-content/uploads/2024/
 03/https___cdn.evbuc_.com_images_666916529_27600831783_1_original.jpg
CATEGORIES:Retreats Events,Wellness Events
LOCATION:Boca Falls\, 21700 Boca Falls Drive Boca Raton\, Miami\, Florida\,
  33428\, United States
X-APPLE-STRUCTURED-LOCATION;VALUE=URI;X-ADDRESS=21700 Boca Falls Drive Boca
  Raton\, Miami\, Florida\, 33428\, United States;X-APPLE-RADIUS=100;X-TITL
 E=Boca Falls:geo:0,0
END:VEVENT
BEGIN:VTIMEZONE
TZID:America/New_York
X-LIC-LOCATION:America/New_York
BEGIN:DAYLIGHT
DTSTART:20240310T030000
TZOFFSETFROM:-0500
TZOFFSETTO:-0400
TZNAME:EDT
END:DAYLIGHT
END:VTIMEZONE
END:VCALENDAR