BEGIN:VCALENDAR
VERSION:2.0
PRODID:-//wp-events-plugin.com//7.2.3.1//EN
TZID:America/New_York
X-WR-TIMEZONE:America/New_York
BEGIN:VEVENT
UID:658@breathemiami.us
DTSTART;TZID=America/New_York:20240810T103000
DTEND;TZID=America/New_York:20240810T120000
DTSTAMP:20240804T233459Z
URL:https://breathemiami.us/events/august-wellness-day/
SUMMARY:August Wellness Day
DESCRIPTION:Join us for an invigorating day dedicated to enhancing your wel
 l-being at August Wellness Day! Hosted at ERA Fit on Northeast 24th Street
  in Miami\, this event offers a diverse range of activities designed to su
 pport your physical and mental health.\nEvent Highlights:\n\n 	Engaging Gr
 oup Sessions: Participate in dynamic group classes that cater to all fitne
 ss levels\, providing an excellent opportunity for both exercise and commu
 nity engagement.\n 	Nutrition Workshops: Learn from expert speakers about 
 the latest in nutrition and wellness\, equipping yourself with knowledge t
 o make informed dietary choices.\n 	IV Therapy Services: Experience the be
 nefits of IV therapy to boost hydration and energy levels.\n 	Live Music: 
 Enjoy great tunes spun by DJ ROZZI\, adding a vibrant atmosphere to your w
 ellness journey.\n 	Free Celsius: Stay refreshed with complimentary Celsiu
 s drinks\, ideal for a healthy boost.\n 	Healthy Snacks: Savor an array of
  nutritious snacks provided at no cost to keep you energized throughout th
 e day.\n\nThis in-person event promises a full day of self-care\, expert i
 nsights\, and hands-on activities aimed at helping you achieve your wellne
 ss goals. Don’t miss this chance to prioritize your health and connect w
 ith like-minded individuals. We look forward to seeing you there for a day
  of fitness\, nutrition\, and rejuvenation!\n\nGET TICKETS\n
ATTACH;FMTTYPE=image/jpeg:https://breathemiami.us/wp-content/uploads/2024/
 08/August-Wellness-Day.jpg
CATEGORIES:Things To Do,Wellness Events
LOCATION:ERA Fit\, 51 Northeast 24th Street Suite 102 Miami\, Miami\, Fl\, 
 33137\, FL \, United States
X-APPLE-STRUCTURED-LOCATION;VALUE=URI;X-ADDRESS=51 Northeast 24th Street Su
 ite 102 Miami\, Miami\, Fl\, 33137\, FL \, United States;X-APPLE-RADIUS=10
 0;X-TITLE=ERA Fit:geo:0,0
END:VEVENT
BEGIN:VTIMEZONE
TZID:America/New_York
X-LIC-LOCATION:America/New_York
BEGIN:DAYLIGHT
DTSTART:20240310T030000
TZOFFSETFROM:-0500
TZOFFSETTO:-0400
TZNAME:EDT
END:DAYLIGHT
END:VTIMEZONE
END:VCALENDAR