BEGIN:VCALENDAR
VERSION:2.0
PRODID:-//wp-events-plugin.com//7.2.3.1//EN
TZID:America/New_York
X-WR-TIMEZONE:America/New_York
BEGIN:VEVENT
UID:597@breathemiami.us
DTSTART;TZID=America/New_York:20240706T200000
DTEND;TZID=America/New_York:20240706T204500
DTSTAMP:20240625T115921Z
URL:https://breathemiami.us/events/ascension-allura-cabaret/
SUMMARY:Ascension - Allura Cabaret
DESCRIPTION:Faena Theater has reimagined its avant-garde cabaret\, "Allura\
 ," with an electrifying new performance titled "Ascension." Starring New Y
 ork singer Rocky Lanes as the charismatic master of ceremonies\, the show 
 leads audiences through a captivating series of sultry vignettes featuring
  aerial acts\, acrobats\, and sensational live music. With a touch of play
 ful mischief\, "Ascension" promises an unforgettable experience.\n\nPre-Sh
 ow Experience:\n\nArrive early to explore Faena’s remarkable public art 
 collection. Highlights include mesmerizing murals by Argentinian artist Ju
 an Gatti and the iconic woolly mammoth sculpture by Damien Hirst. This art
 istic immersion sets the stage for an evening of extraordinary entertainme
 nt.\n\nAdditional Information:\n\n 	Artistic Direction: "Ascension" mainta
 ins the avant-garde spirit of "Allura" while introducing fresh\, exhilarat
 ing elements that elevate the cabaret experience.\n 	Venue Atmosphere: Fae
 na Theater's opulent setting provides the perfect backdrop for this avant-
 garde spectacle\, combining luxury and artistic innovation.\n\nWhy Attend?
 \n\n"Ascension" at Faena Theater offers more than just a night out\; it’
 s an immersive journey into a world of high-flying artistry\, provocative 
 performances\, and unforgettable musical moments. Whether you're a cabaret
  aficionado or a first-time attendee\, "Ascension" is a must-see event tha
 t promises to leave you spellbound.\n\nBook Your Tickets:\n\nDon't miss th
 e chance to witness this unique fusion of art\, music\, and acrobatics. Se
 cure your tickets now and prepare to be transported into the enchanting wo
 rld of "Ascension" at Faena Theater.\n\nGET TICKETS\n
ATTACH;FMTTYPE=image/jpeg:https://breathemiami.us/wp-content/uploads/2024/
 06/Ascension-Allura-Cabaret.webp
CATEGORIES:Things To Do
LOCATION:Faena Theater\, 3201 Collins Avenue\, Miami Beach\, Florida\, 3314
 0\, United States
X-APPLE-STRUCTURED-LOCATION;VALUE=URI;X-ADDRESS=3201 Collins Avenue\, Miami
  Beach\, Florida\, 33140\, United States;X-APPLE-RADIUS=100;X-TITLE=Faena 
 Theater:geo:0,0
END:VEVENT
BEGIN:VTIMEZONE
TZID:America/New_York
X-LIC-LOCATION:America/New_York
BEGIN:DAYLIGHT
DTSTART:20240310T030000
TZOFFSETFROM:-0500
TZOFFSETTO:-0400
TZNAME:EDT
END:DAYLIGHT
END:VTIMEZONE
END:VCALENDAR