BEGIN:VCALENDAR
VERSION:2.0
PRODID:-//wp-events-plugin.com//7.2.3.1//EN
TZID:America/New_York
X-WR-TIMEZONE:America/New_York
BEGIN:VEVENT
UID:1147@breathemiami.us
DTSTART;TZID=America/New_York:20241116T110000
DTEND;TZID=America/New_York:20241116T130000
DTSTAMP:20241023T084433Z
URL:https://breathemiami.us/events/artmaking-yin-yoga-session-at-mbbg/
SUMMARY:Artmaking & Yin Yoga Session at MBBG
DESCRIPTION:Join the Buen Provecho Collective and TODO Yoga for a unique co
 llaboration at the Miami Beach Botanical Garden! This special event merges
  artmaking with a restorative yin yoga session\, offering participants a c
 hance to nourish their bodies and souls while surrounded by the garden's s
 tunning natural beauty.\n\nIn this supportive environment\, attendees will
  explore their creativity and connection to the world around them\, cultiv
 ating mindfulness and intention. The session will kick off with a body-map
 ping activity led by the Buen Provecho Collective. Participants will engag
 e in this reflective practice before and after the yoga session\, allowing
  them to visualize how movement and mindfulness influence their physical\,
  mental\, and emotional well-being. Body mapping encourages individuals to
  tune into their bodies and take stock of their sensations. Using fun mate
 rials\, they will draw their experiences onto paper\, creating a personal 
 work of art. All necessary materials will be provided by the Buen Provecho
  Collective.\n\nFollowing the art activity\, participants will transition 
 into a yin yoga session\, which focuses on restorative poses to gently str
 etch and nourish the body. Led by Wanda Carreras from TODO Yoga\, this cal
 ming practice incorporates meditation and breathwork\, promoting deep rela
 xation and mindfulness.\n\nKey Highlights:\n\n 	Experience the joy of mind
 ful creation through artmaking and body mapping\, allowing for self-explor
 ation and expression.\n 	Enjoy a slow-paced yin yoga class designed to res
 tore and rejuvenate\, enhancing both physical and emotional well-being.\n 
 	All materials for the art activity will be provided\, making it easy for 
 participants to engage without any preparation.\n\nWhat to Bring:\n\n 	Gue
 sts are encouraged to bring their own yoga mats to fully participate in th
 e yin yoga session.\n\nLocation &amp\; Details: 📍 Miami Beach Botanical
  Garden\n🗓️ Date: [Insert Date Here]\n🕒 Time: [Insert Time Here]\n
 \nThis event is a wonderful opportunity to connect with oneself and others
  while embracing creativity and mindfulness in a beautiful outdoor setting
 . Join us for an enriching experience that blends art\, movement\, and com
 munity!\n\nGET TICKETS\n
ATTACH;FMTTYPE=image/jpeg:https://breathemiami.us/wp-content/uploads/2024/
 10/Artmaking-Yin-Yoga-Session-at-MBBG.jpg
CATEGORIES:Yoga Events
LOCATION:Miami Beach Botanical Garden\, 2000 Convention Center Drive Miami 
 Beach\, Miami\, Florida\, 33139\, FL\, United States
X-APPLE-STRUCTURED-LOCATION;VALUE=URI;X-ADDRESS=2000 Convention Center Driv
 e Miami Beach\, Miami\, Florida\, 33139\, FL\, United States;X-APPLE-RADIU
 S=100;X-TITLE=Miami Beach Botanical Garden:geo:0,0
END:VEVENT
BEGIN:VTIMEZONE
TZID:America/New_York
X-LIC-LOCATION:America/New_York
BEGIN:STANDARD
DTSTART:20241103T010000
TZOFFSETFROM:-0400
TZOFFSETTO:-0500
TZNAME:EST
END:STANDARD
END:VTIMEZONE
END:VCALENDAR