BEGIN:VCALENDAR
VERSION:2.0
PRODID:-//wp-events-plugin.com//7.2.3.1//EN
TZID:America/New_York
X-WR-TIMEZONE:America/New_York
BEGIN:VEVENT
UID:1188@breathemiami.us
DTSTART;TZID=America/New_York;VALUE=DATE:20241130
DTEND;TZID=America/New_York;VALUE=DATE:20241201
DTSTAMP:20241024T075316Z
URL:https://breathemiami.us/events/art-week-at-the-betsy-hotel/
SUMMARY:Art Week at The Betsy Hotel
DESCRIPTION:The Betsy Hotel\, known for its enchanting atmosphere and rich 
 cultural heritage\, is set to host an exciting Art Week celebration that i
 nvites guests and locals alike to immerse themselves in a vibrant artistic
  experience. Throughout the week\, the hotel will feature a variety of eng
 aging activities\, including live music\, artist meet-and-greets\, and cap
 tivating public art installations.\n\nGuests can unwind in The Piano Bar\,
  where they will be treated to exhilarating jazz performances by some of M
 iami's most talented musicians\, creating a lively and inviting ambiance. 
 Meanwhile\, the iconic Betsy Orb will showcase stunning projection-mapped 
 artworks by the acclaimed artist collective [dNASAb]\, transforming the sp
 ace into a visual feast that melds technology with creativity.\n\nAdding t
 o the artistic flair\, the Peter London Global Dance Company will present 
 an electrifying dance performance\, highlighting the incredible choreograp
 hy of Trinidad and Tobago-born artist Peter London. This performance promi
 ses to captivate audiences with its dynamic movements and cultural richnes
 s.\n\nThroughout the hotel\, visitors can explore a variety of art install
 ations\, each contributing to a celebration of creativity and innovation. 
 Art Week at The Betsy Hotel not only showcases the talents of local artist
 s but also fosters a sense of community through shared experiences and the
  appreciation of the arts.\n\nWith its combination of live entertainment\,
  interactive art\, and opportunities to engage with artists\, this week-lo
 ng celebration provides a unique platform for cultural exchange and artist
 ic expression. Whether one is a seasoned art enthusiast or simply looking 
 for a delightful outing\, Art Week at The Betsy Hotel promises to be a mem
 orable experience that celebrates the heart and soul of Miami's vibrant ar
 ts scene.\n\nGET TICKETS\n
ATTACH;FMTTYPE=image/jpeg:https://breathemiami.us/wp-content/uploads/2024/
 10/Art-Week-at-The-Betsy-Hotel.webp
CATEGORIES:Things To Do
LOCATION:Betsy\, 1440 Ocean Dr\, Miami\, Florida\, 33196\, FL\, United Stat
 es
X-APPLE-STRUCTURED-LOCATION;VALUE=URI;X-ADDRESS=1440 Ocean Dr\, Miami\, Flo
 rida\, 33196\, FL\, United States;X-APPLE-RADIUS=100;X-TITLE=Betsy:geo:0,0
END:VEVENT
BEGIN:VTIMEZONE
TZID:America/New_York
X-LIC-LOCATION:America/New_York
BEGIN:STANDARD
DTSTART:20241103T010000
TZOFFSETFROM:-0400
TZOFFSETTO:-0500
TZNAME:EST
END:STANDARD
END:VTIMEZONE
END:VCALENDAR