BEGIN:VCALENDAR
VERSION:2.0
PRODID:-//wp-events-plugin.com//7.2.3.1//EN
TZID:America/New_York
X-WR-TIMEZONE:America/New_York
BEGIN:VEVENT
UID:783@breathemiami.us
DTSTART;TZID=America/New_York:20240908T100000
DTEND;TZID=America/New_York:20240908T170000
DTSTAMP:20240825T133041Z
URL:https://breathemiami.us/events/art-on-the-plaza-christopher-mitchell-l
 es-sirenes/
SUMMARY:Art on the Plaza: Christopher Mitchell - Les Sirènes
DESCRIPTION:Christopher Mitchell’s “Les Sirènes” brings an enchantin
 g portrayal of Haitian mythology to the MOCA plaza\, transforming the spac
 e into a mythological realm. This captivating installation explores the di
 verse mermaids of Haitian folklore\, each embodying a distinct tale and mo
 ral from the rich tapestry of Haitian culture.\n\nAbout the Installation:\
 n\n 	Exhibition Overview: “Les Sirènes” features seven unique mermaid
 s\, each representing a different aspect of Haitian folklore. These mermai
 ds are depicted in various forms\, from the beguiling golden mermaid who l
 ures the greedy to the conch-carrying siren who guides sailors. The series
  also includes the environmental mermaid\, who charms those who litter\, t
 he transformative mermaid who connects individuals to the spiritual realm\
 , the menacing mermaid with sharp teeth and nails\, and the divine protect
 or of nature who rewards those who respect the environment.\n 	Artistic Vi
 sion: Growing up in Haiti and now calling North Miami his second home\, Ch
 ristopher Mitchell brings a personal connection to his work\, aiming to br
 idge his community with the rich stories of Haitian folklore. The installa
 tion allows visitors to immerse themselves in these mythical tales through
  life-sized mermaid figures\, each floating gracefully in and around the p
 laza’s fountain.\n 	Interactive Experience: As visitors explore the plaz
 a\, they will encounter these mythical beings both above and below the wat
 er\, offering a dynamic and immersive experience. The transformation of th
 e MOCA plaza into this enchanted space invites viewers to engage deeply wi
 th the stories and symbolism of Haitian folklore.\n 	Engagement: “Les Si
 rènes” serves as a cultural dialogue\, encouraging a deeper connection 
 with Haitian heritage through a visually stunning and thought-provoking pr
 esentation. Mitchell’s installation promises to captivate and inspire\, 
 turning the plaza into a living tableau of myth and magic.\n\nJoin us at M
 OCA to experience “Les Sirènes” and journey through the mythological 
 waters of Haiti with Christopher Mitchell’s mesmerizing art.\n\nGET TICK
 ETS\n
ATTACH;FMTTYPE=image/jpeg:https://breathemiami.us/wp-content/uploads/2024/
 08/Art-on-the-Plaza-Christopher-Mitchell-Les-Sirenes-1-scaled.jpg
CATEGORIES:Mindfulness Events,Things To Do
LOCATION:Joan Lehman Building\, 770 NE 125 Street\, Miami\, Florida\, 33161
 \, FL\, United States
X-APPLE-STRUCTURED-LOCATION;VALUE=URI;X-ADDRESS=770 NE 125 Street\, Miami\,
  Florida\, 33161\, FL\, United States;X-APPLE-RADIUS=100;X-TITLE=Joan Lehm
 an Building:geo:0,0
END:VEVENT
BEGIN:VTIMEZONE
TZID:America/New_York
X-LIC-LOCATION:America/New_York
BEGIN:DAYLIGHT
DTSTART:20240310T030000
TZOFFSETFROM:-0500
TZOFFSETTO:-0400
TZNAME:EDT
END:DAYLIGHT
END:VTIMEZONE
END:VCALENDAR