BEGIN:VCALENDAR
VERSION:2.0
PRODID:-//wp-events-plugin.com//7.2.3.1//EN
TZID:America/New_York
X-WR-TIMEZONE:America/New_York
BEGIN:VEVENT
UID:184@breathemiami.us
DTSTART;TZID=America/New_York:20231209T210000
DTEND;TZID=America/New_York:20231210T020000
DTSTAMP:20231228T215858Z
URL:https://breathemiami.us/events/art-legends-2023-the-national-hotel-mia
 mi-beach/
SUMMARY:Art Legends 2023 @ The National Hotel Miami Beach
DESCRIPTION:Art Legends 2023: Art Showcase &amp\; VIP Afterparty\n\nThe Nat
 ional Hotel in Miami Beach\, renowned for its iconic art deco architecture
  and oceanfront location\, is set to host the much-anticipated Art Legends
  2023 event. Scheduled for Saturday night\, December 9th\, this vibrant ce
 lebration will showcase a rich array of global talent\, featuring multiple
  artists from around the world. The event promises an evening filled with 
 live art demonstrations\, top talent\, and exceptional entertainment.\n\nF
 rom 9 PM to 2 AM\, the historic National Hotel at 1677 Collins Avenue tran
 sforms into an immersive art and entertainment complex. The highlight of t
 he evening is the featured artist\, Juliana Plexxo\, a contemporary Latina
  artist hailing from Barcelona\, Spain\, known for her captivating artwork
 s.\n\nGuests will be welcomed with an hour of sponsored cocktails from Ket
 el One Vodka and Don Julio Tequila\, setting a festive tone for the night.
  Adding to the ambiance\, music will be provided by Eran Hersh from iHeart
  Radio 93.5 Revolution\, Miami's #1 Dance Station\, ensuring a lively and 
 rhythmic backdrop.\n\nEvent Features:\n\n 	Live painting sessions on vario
 us mediums\, including bodies and canvas\, along with the unveiling of ori
 ginal\, never-before-seen artworks.\n 	Over 1000 guests are expected to at
 tend\, adding to the grandeur and scale of the event.\n 	The entire proper
 ty\, from the lobby to the boardwalk\, will be transformed into an all-enc
 ompassing art and entertainment venue.\n\nThe event is a collaborative pre
 sentation by Nellyslist\, Jason Perez Art Collective\, MTLE Studios\, One 
 of Us\, and Source. It stands as a testament to the convergence of art\, c
 ulture\, and entertainment in one of Miami Beach's most celebrated locatio
 ns.\n\nPlease Note:\n\n 	Art Legends 2023 is a private event and is not af
 filiated with any convention or other production group.\n 	All ticket sale
 s are final and non-refundable under any circumstances.\n\nArt Legends 202
 3 invites guests to an unforgettable night where artistry and festivity me
 et in a spectacular South Beach setting.
ATTACH;FMTTYPE=image/jpeg:https://breathemiami.us/wp-content/uploads/2023/
 11/https___cdn.evbuc_.com_images_633113979_3004582879_1_original.jpeg
CATEGORIES:Things To Do
LOCATION:National Hotel\, 1677 Collins Avenue Miami Beach\, Miami\, Florida
 \, 33139\, United States
X-APPLE-STRUCTURED-LOCATION;VALUE=URI;X-ADDRESS=1677 Collins Avenue Miami B
 each\, Miami\, Florida\, 33139\, United States;X-APPLE-RADIUS=100;X-TITLE=
 National Hotel:geo:0,0
END:VEVENT
BEGIN:VTIMEZONE
TZID:America/New_York
X-LIC-LOCATION:America/New_York
BEGIN:STANDARD
DTSTART:20231105T010000
TZOFFSETFROM:-0400
TZOFFSETTO:-0500
TZNAME:EST
END:STANDARD
END:VTIMEZONE
END:VCALENDAR