BEGIN:VCALENDAR
VERSION:2.0
PRODID:-//wp-events-plugin.com//7.2.3.1//EN
TZID:America/New_York
X-WR-TIMEZONE:America/New_York
BEGIN:VEVENT
UID:1288@breathemiami.us
DTSTART;TZID=America/New_York:20250324T110000
DTEND;TZID=America/New_York:20250324T130000
DTSTAMP:20250226T135432Z
URL:https://breathemiami.us/events/art-class-for-homeschoolers-in-miami/
SUMMARY:Art Class for Homeschoolers in Miami
DESCRIPTION:The Peacemaker Studio in South Miami invites homeschooling fami
 lies to an enriching art class led by artist Faride Chedraui. Designed to 
 nurture creativity and foster community\, this interactive session provide
 s young learners with professional artistic guidance in a supportive envir
 onment. Held at 8100 SW 81 Drive\, Suite 275 (Second Floor)\, each class i
 s priced at $30\, inclusive of all materials.\nParticipants will explore v
 arious artistic techniques under Faride's expert instruction\, sparking im
 agination and self-expression. Parents can either observe the creative pro
 cess or unwind in the designated waiting area.\nRegistration is available 
 via Eventbrite\, with FTC-PEP scholarship invoices provided upon request.\
 nFor inquiries\, reach out to homeschoolersenmiami@gmail.com.\nFollow the 
 journey on Instagram:@almassabiashomeschooling@thepeacemakerstudio@faride.
 artdesign\nSpaces are limited—reserve your spot today and become part of
  Miami's thriving homeschool community!\n\n\nGET TICKETS\n
ATTACH;FMTTYPE=image/jpeg:https://breathemiami.us/wp-content/uploads/2025/
 02/Art-Class-for-Homeschoolers-in-Miami.avif
CATEGORIES:Wellness Events
LOCATION:The Peacemaker\, 8100 Southwest 81st Drive #suite 275 \, Miami\, F
 lorida\, 33143\, FL\, United States
X-APPLE-STRUCTURED-LOCATION;VALUE=URI;X-ADDRESS=8100 Southwest 81st Drive #
 suite 275 \, Miami\, Florida\, 33143\, FL\, United States;X-APPLE-RADIUS=1
 00;X-TITLE=The Peacemaker:geo:0,0
END:VEVENT
BEGIN:VTIMEZONE
TZID:America/New_York
X-LIC-LOCATION:America/New_York
BEGIN:DAYLIGHT
DTSTART:20250309T030000
TZOFFSETFROM:-0500
TZOFFSETTO:-0400
TZNAME:EDT
END:DAYLIGHT
END:VTIMEZONE
END:VCALENDAR