BEGIN:VCALENDAR
VERSION:2.0
PRODID:-//wp-events-plugin.com//7.2.3.1//EN
TZID:America/New_York
X-WR-TIMEZONE:America/New_York
BEGIN:VEVENT
UID:186@breathemiami.us
DTSTART;TZID=America/New_York:20231205T063000
DTEND;TZID=America/New_York:20240107T083000
DTSTAMP:20231202T221329Z
URL:https://breathemiami.us/events/art-basel-cosmic-sound-voyage-miami-bea
 ch/
SUMMARY:Art Basel: Cosmic Sound Voyage Miami Beach
DESCRIPTION:Event Overview\n\nArt Basel Miami Beach commences with a captiv
 ating Cosmic Sound Voyage on Miami Beach. This innovative live sound heali
 ng to headphone experience is designed to guide attendees on an astral jou
 rney through the cosmos. The event begins with meditation elixirs courtesy
  of Orion Herbs. Each guest will be equipped with a set of headphones\, ma
 rking the start of a guided meditation session. This initial phase include
 s movement and breathwork\, seamlessly transitioning into live drumming an
 d dance.\n\nAs the evening progresses\, participants will recline and imme
 rse themselves in the soundscape crafted by Jared Bistrong\, the founder a
 nd director of the South Beach Sound Healing Orchestra\, and Ali Kartalsun
 a\, the founder of Tribal Galaxy. Their expertise converges to create a li
 ve galactic sound healing journey. The sonic blend of ancient flutes\, sha
 manic drumming\, singing bowls\, gongs\, handpans\, and didgeridoos promis
 es an unparalleled celestial voyage.\n\nThis immersive experience aims to 
 rejuvenate and balance participants\, leaving them in a state of blissful 
 presence.\n\nParticipant Instructions:\n\nAttendees are advised to bring a
  blanket\, mat\, or towel for comfort during the session. Warm clothing is
  recommended\, as participants often feel cold during sound healing sessio
 ns. Water and good vibes are essential for this experience. Due to challen
 ging parking conditions\, early arrival is suggested. The event is schedul
 ed to start at 6:30pm near the 3rd Street Lifeguard Tower\, just north of 
 the location.\n\n&nbsp\;\n\n\nGET TICKETS\n&nbsp\;\n\n&nbsp\;\n\n&nbsp\;\n
 \n
ATTACH;FMTTYPE=image/jpeg:https://breathemiami.us/wp-content/uploads/2023/
 11/https___cdn.evbuc_.com_images_650026239_335986219655_1_original.jpeg
CATEGORIES:Mindfulness Events,Things To Do,Wellness Events
LOCATION:3rd Street Lifeguard Tower\, Miami Beach\, FL \, Miami\, Florida\,
  33139\, United States
X-APPLE-STRUCTURED-LOCATION;VALUE=URI;X-ADDRESS=Miami Beach\, FL \, Miami\,
  Florida\, 33139\, United States;X-APPLE-RADIUS=100;X-TITLE=3rd Street Lif
 eguard Tower:geo:0,0
END:VEVENT
BEGIN:VTIMEZONE
TZID:America/New_York
X-LIC-LOCATION:America/New_York
BEGIN:STANDARD
DTSTART:20231105T010000
TZOFFSETFROM:-0400
TZOFFSETTO:-0500
TZNAME:EST
END:STANDARD
END:VTIMEZONE
END:VCALENDAR