BEGIN:VCALENDAR
VERSION:2.0
PRODID:-//wp-events-plugin.com//7.2.3.1//EN
TZID:America/New_York
X-WR-TIMEZONE:America/New_York
BEGIN:VEVENT
UID:1070@breathemiami.us
DTSTART;TZID=America/New_York:20241028T180000
DTEND;TZID=America/New_York:20241028T200000
DTSTAMP:20241013T101706Z
URL:https://breathemiami.us/events/art-after-dark-embroidery-workshop/
SUMMARY:Art After Dark - Embroidery Workshop
DESCRIPTION:The Doral Cultural Arts Center is excited to present the Art Af
 ter Dark: Embroidery Workshop\, a delightful event designed for anyone eag
 er to explore their creativity through the art of embroidery. This fall-th
 emed workshop invites participants to learn the art of stitching pumpkins\
 , offering a festive twist perfect for the season.\n\nScheduled for Monday
 \, October 28\, 2024\, from 6:00 PM to 8:00 PM\, this hands-on class is id
 eal for both beginners and seasoned crafters. Participants will have the o
 pportunity to hone their stitching skills while crafting beautiful autumn 
 decor that they can proudly display in their homes.\n\nFor a registration 
 fee of just $10 per person\, attendees can secure their spot in this intim
 ate workshop\, which is limited to 30 participants on a first-come\, first
 -served basis. This ensures everyone receives personal attention and guida
 nce throughout the creative process.\n\nWhether looking to develop new ski
 lls\, create charming seasonal decorations\, or simply enjoy a cozy evenin
 g of crafting with fellow enthusiasts\, this embroidery workshop promises 
 to be a wonderful way to embrace the spirit of fall. Don’t miss out on t
 his chance to unleash your creativity and make something special!\n\nGET T
 ICKETS\n
ATTACH;FMTTYPE=image/jpeg:https://breathemiami.us/wp-content/uploads/2024/
 10/Art-After-Dark-Embroidery-Workshop.jpg
CATEGORIES:Things To Do
LOCATION:Doral Cultural Arts Center\, 8363 Northwest 53rd Street Doral\, Mi
 ami\, Florida\, 33166\, FL\, United States
X-APPLE-STRUCTURED-LOCATION;VALUE=URI;X-ADDRESS=8363 Northwest 53rd Street 
 Doral\, Miami\, Florida\, 33166\, FL\, United States;X-APPLE-RADIUS=100;X-
 TITLE=Doral Cultural Arts Center:geo:0,0
END:VEVENT
BEGIN:VTIMEZONE
TZID:America/New_York
X-LIC-LOCATION:America/New_York
BEGIN:DAYLIGHT
DTSTART:20240310T030000
TZOFFSETFROM:-0500
TZOFFSETTO:-0400
TZNAME:EDT
END:DAYLIGHT
END:VTIMEZONE
END:VCALENDAR