BEGIN:VCALENDAR
VERSION:2.0
PRODID:-//wp-events-plugin.com//7.2.3.1//EN
TZID:America/New_York
X-WR-TIMEZONE:America/New_York
BEGIN:VEVENT
UID:1123@breathemiami.us
DTSTART;TZID=America/New_York:20241020T180000
DTEND;TZID=America/New_York:20241020T230000
DTSTAMP:20241020T074025Z
URL:https://breathemiami.us/events/arouse/
SUMMARY:Arouse
DESCRIPTION:In the context of spirituality and self-awareness\, the term "a
 rouse" encapsulates the process of awakening\, exciting\, or stimulating o
 ne's emotions and consciousness. This awakening signifies a profound conne
 ction not only to oneself but also to others and the divine.\n\n"Arouse: A
  Ceremony of Erotic Theater to Arouse Consciousness" invites participants 
 on a transformative journey\, immersing them in the realms of sensual expl
 oration and spiritual awakening through the captivating art of erotic thea
 ter. This event provides a unique opportunity to experience ritual as a fo
 rm of spiritual theater\, where eroticism\, symbolism\, ceremony\, and cel
 ebration harmoniously converge. Within this safe and sacred space\, indivi
 duals are encouraged to liberate themselves and embrace pleasure.\n\nParti
 cipants will engage with their desires\, boundaries\, and vulnerabilities 
 in a supportive environment\, allowing them to be fully present and recept
 ive to the sensations offered by "Arouse." Through a series of thoughtfull
 y curated rituals\, performances\, and immersive experiences\, attendees w
 ill be guided to explore deeper layers of their consciousness\, connecting
  with their sensual selves and the divine essence within.\n\nThe ceremony 
 serves multiple purposes: honoring sexual energy\, healing sexual trauma\,
  and fostering practices of consent and mindfulness. It creates a containe
 r for liberation and empowerment of the feminine\, while also providing a 
 framework for the masculine to create a safe and sacred space for the femi
 nine to thrive. In this space\, the sacred "No" is respected\, as is the s
 acred "Yes" to oneself. Ultimately\, this event allows participants to fee
 l love and gratitude for the powerful energy they possess—the energy of 
 sexuality.\nSchedule of Magick:\n\n 	6:00 PM: Doors Open\n 	6:00 PM: DJ Ma
 gnetic\n 	6:30 PM: DJ Jkali\n 	7:30 PM: Doors Close (Attendees must be ins
 ide the theater by this time)\n 	7:30 PM: Opening Ceremony with Giselle Wo
 rld &amp\; Kaheal\n 	8:00 PM: Eros Contact Dance with Kaheal\n 	8:30 PM: D
 J Kaheal + Quixotic Prayerformances\n 	10:00 PM: Closing Ceremony and Inte
 gration with Giselle World and Kaheal\n\nDress Code:\nRed or Black Casual 
 Chic\n\nNote: This experience is primarily standing\, with limited table s
 eating available.\nTicket Information:\nThere are no distinctions between 
 the ticket tiers\; the final tier reflects the true value of the event. Mo
 re economical ticket options are available to support those in need. Atten
 dees are encouraged to purchase the ticket they can genuinely afford\, lea
 ving the more economical options for those who require them. Your understa
 nding and support in making this event accessible to a broader audience ar
 e greatly appreciated.\nMeet the Artists\n(Additional information about th
 e artists can be provided here.)\n\nThis event promises to be an enlighten
 ing experience\, fostering connections and facilitating personal and spiri
 tual growth in a vibrant\, supportive environment.\n\nGET TICKETS\n
ATTACH;FMTTYPE=image/jpeg:https://breathemiami.us/wp-content/uploads/2024/
 10/Arouse.jpg
CATEGORIES:Featured Events
LOCATION:Faena Theater\, 3201 Collins Avenue\, Miami Beach\, Florida\, 3314
 0\, United States
X-APPLE-STRUCTURED-LOCATION;VALUE=URI;X-ADDRESS=3201 Collins Avenue\, Miami
  Beach\, Florida\, 33140\, United States;X-APPLE-RADIUS=100;X-TITLE=Faena 
 Theater:geo:0,0
END:VEVENT
BEGIN:VTIMEZONE
TZID:America/New_York
X-LIC-LOCATION:America/New_York
BEGIN:DAYLIGHT
DTSTART:20240310T030000
TZOFFSETFROM:-0500
TZOFFSETTO:-0400
TZNAME:EDT
END:DAYLIGHT
END:VTIMEZONE
END:VCALENDAR