BEGIN:VCALENDAR
VERSION:2.0
PRODID:-//wp-events-plugin.com//7.2.3.1//EN
TZID:America/New_York
X-WR-TIMEZONE:America/New_York
BEGIN:VEVENT
UID:1308@breathemiami.us
DTSTART;TZID=America/New_York:20250504T173000
DTEND;TZID=America/New_York:20250504T223000
DTSTAMP:20250421T204017Z
URL:https://breathemiami.us/events/arouse-2025-05-04/
SUMMARY:Arouse
DESCRIPTION:Arouse is an immersive ceremony of erotic theater designed to i
 nvite you to explore the depths of your senses within a sacred and safe sp
 ace. Prepare to journey through both dark and light pleasures\, where you
  can choose to be either a spectator or participant. Embrace your curiosit
 y and let your imagination guide you\, all while remaining masked for the 
 journey.\n\nWith the support of our Goddesses and Guardians\, you will jou
 rney through the worlds of Aphrodite\, Lilith\, and the sacred fire for an
  evening of performance and sensual exploration. This is an opportunity to
  embody our sensual energy through creative expression. The stage will be 
 open for you to play and express yourself at various moments throughout th
 e evening. If you choose to participate\, please come dressed in something
  sexy and comfortable\, along with a robe to conceal and then reveal. This
  ceremony honors our sensual and creative energy\, so be prepared to hold 
 space in a ceremonial manner. We call upon your highest self to be present
 \; please respect the ceremony and allow it to unfold before your eyes and
  heart.\n\nNot allowed\n\n 	Photos/Videos\n 	Socializing\n\nWe are honored
  to create this sacred space with you and the Miami community\, and we loo
 k forward to seeing you there!\n\n\n\n&nbsp\;\n\n\n\n\n\n\n\n\n\n\nView th
 is post on Instagram\n\n\n\n\n\n\n\n\n\n\n\n\n\n\n\n\n\n\n\n\n\n\n&nbsp\;\
 nA post shared by Arouse (@arouse____)\n\n\n\n\n  \n\n&nbsp\;\n\n&nbsp\;\
 n\n&nbsp\;\n\n\n\n\n\n\n\n&nbsp\;\n\n\n \n\n\n\n\n\n\n\n\n\n\n\n\nThe Sche
 dule:\nShow 1\n\n 	5:30pm: Doors Open\n 	6:30pm: Opening Ceremony with Emi
 lia Garth and Kaheal (Doors Close)\n 	6:45pm: The Journey\n 	7:45pm: Clos
 ing Ceremony\n\nShow 2\n\n 	8:45pm: Doors Open\n 	9:30pm: Opening Ceremony
  with Emilia Garth and Kaheal (Doors Close)\n 	9:15pm: The Journey\n 	10:
 15pm: Closing Ceremony\n\n\n\n\n\nDress Theme: ALL WHITE\nAll attendees wi
 ll be given a white mask for the journey.\n\n \n\n\n\n\n\n\n\n\n\n\n\n\n\n
 Meet the Artists\nEmilia\n\n\nOf Native Hawaiian heritage\, Emilia's path 
 has led her to study and collaborate with spiritual leaders and diverse mu
 sical lineages across the globe. Her deep dedication to cultural preservat
 ion and healing practices is reflected in her mastery of songs\, chants\, 
 and mantras in Spanish\, Portuguese\, Hawaiian\, Yoruba\, Gurmukhi\, and S
 anskrit.\n\nEmilia’s concert experiences go beyond music\, as she interw
 eaves songs with meditation\, esoteric wisdom\, and heartfelt storytelling
 . Her music invites listeners into moments of reflection\, healing\, and t
 ransformation\, earning her a loyal global following.\n\nBeyond her perfor
 mances\, Emilia is a visionary music educator and ceremonialist. She passi
 onately guides others in unlocking their authentic voice through voice and
  ukulele workshops\, song circles\, ancestral healing ceremonies\, and com
 prehensive online courses.\nSamantha Mixan\n\n\n\n\nSamantha Mixan is the 
 enchanting sorceress and captivating star of the renowned Faena Theater\, 
 where she has mesmerized audiences for over a decade with her unique blend
  of mysticism and artistry. As the high priestess of the ceremonial erotic
  show called “Arouse\,” Samantha weaves a spellbinding tapestry of ele
 gance\, intrigue\, and otherworldly allure\, inviting her audience to emba
 rk on a mystical journey of wonder and awe. With a background in dance\, m
 agic\, and the mystical arts\, Samantha’s performances transcend the bou
 ndaries of reality\, transporting her audience to a realm where dreams and
  reality intertwine in a mesmerizing display of sorcery and spectacle. Her
  enchanting presence and mystical energy captivate all who have the pleasu
 re of witnessing her mystical and erotic performances.\nKaheal\n\n\n&nbsp\
 ;\n\nKaheal is a versatile empowerment coach\, fire ceremonialist\, music 
 producer\, international DJ \, and event producer who radiates a passion f
 or guiding individuals on their journey towards self-discovery and persona
 l growth. As the founder\, producer\, and master of ceremony for "Fire Fli
 es Forest\," an empowerment gathering designed to ignite the inner fire wi
 thin individuals\, Kaheal empowers others to tap into their inner strength
 \, overcome challenges\, and unlock their full potential. Through his dyna
 mic coaching style and transformative fire ceremonies\, Kaheal creates sac
 red spaces for individuals to release old patterns\, fears\, and limitatio
 ns\, guiding them towards a deeper connection with themselves and the worl
 d around them. His music as an international DJ is infused with intention 
 and energy\, inviting listeners to embark on a soul-nourishing musical jou
 rney that uplifts the spirit and inspires movement and expression. Additio
 nally\, as a dedicated father to his 14-year-old daughter\, Monarch Icis\,
  Kaheal exemplifies patience\, compassion\, and love\, instilling in her t
 he values of authenticity\, courage\, and resilience. Through his work and
  presence\, Kaheal embodies empowerment\, creativity\, and love\, inspirin
 g all those he encounters to embrace their true power and shine brightly i
 n the world.\nThe Venue\n \n\n&nbsp\;\n\n&nbsp\;\n\n&nbsp\;\n\n&nbsp\;\n\n
 &nbsp\;\n\n&nbsp\;\n\n&nbsp\;\n\n&nbsp\;\n\n\n\nA magical &amp\; secretive
  portal resonant to the vibrations of the earth at the intersection of nat
 ure &amp\; celebration. Palapa is the main event space at Upper Buena Vist
 a beneath a majestic tiki\, surrounded by lush tropical trees\, a place to
  celebrate the essence of life.\n\nIt provides shade\, shelter from rain a
 nd becomes a gateway during live music performances and evenings of cultur
 e. Palapa was built by Seminole tribe members using ancestral traditions a
 nd techniques.\nRefund Policy\nRefunds up to 1 day before event
ATTACH;FMTTYPE=image/jpeg:https://breathemiami.us/wp-content/uploads/2025/
 04/breathe_arouse_20250504.jpg
CATEGORIES:Featured Events,Food &amp; Drink Events,Mindfulness
 Events,Things To Do,Wellness Events,Yoga Events
LOCATION:Palapa\, 5040 Northeast 2nd Avenue\, Miami\, FL\, 33137\, United S
 tates
X-APPLE-STRUCTURED-LOCATION;VALUE=URI;X-ADDRESS=5040 Northeast 2nd Avenue\,
  Miami\, FL\, 33137\, United States;X-APPLE-RADIUS=100;X-TITLE=Palapa:geo:
 0,0
END:VEVENT
BEGIN:VTIMEZONE
TZID:America/New_York
X-LIC-LOCATION:America/New_York
BEGIN:DAYLIGHT
DTSTART:20250309T030000
TZOFFSETFROM:-0500
TZOFFSETTO:-0400
TZNAME:EDT
END:DAYLIGHT
END:VTIMEZONE
END:VCALENDAR