BEGIN:VCALENDAR
VERSION:2.0
PRODID:-//wp-events-plugin.com//7.2.3.1//EN
TZID:America/New_York
X-WR-TIMEZONE:America/New_York
BEGIN:VEVENT
UID:839@breathemiami.us
DTSTART;TZID=America/New_York:20241018T193000
DTEND;TZID=America/New_York:20241026T213000
DTSTAMP:20240910T063424Z
URL:https://breathemiami.us/events/arch-creek-park-ghost-stroll/
SUMMARY:Arch Creek Park Ghost Stroll
DESCRIPTION:Discover the hidden mysteries of Arch Creek Park on a captivati
 ng guided night tour led by Miami EcoAdventures. This unique experience\, 
 offered on October 18 and October 26\, invites participants to explore the
  park’s darkened trails while uncovering the rich history\, folklore\, a
 nd legends that have haunted the area for generations.\n\nAs you journey t
 hrough the eerie forests of Arch Creek\, you'll delve into tales of the pa
 rk's past\, from the Indigenous communities who once inhabited the area to
  the spine-tingling stories that linger in local lore. Whether you’re a 
 history buff or a thrill-seeker\, this immersive nighttime adventure promi
 ses an intriguing glimpse into the unknown side of Miami’s natural beaut
 y.\n\nAdvance registration is required\, and due to the nature of the prog
 ram\, walk-up registrations are not permitted. This exclusive event is des
 igned for ages 10 and up\, with children under 14 required to be accompani
 ed by an adult. It’s a rare opportunity to experience the park in a comp
 letely new light – or lack thereof!\n\nPrepare for an unforgettable even
 ing filled with history\, mystery\, and the quiet allure of nature after d
 ark.\n\nGET TICKETS\n
ATTACH;FMTTYPE=image/jpeg:https://breathemiami.us/wp-content/uploads/2024/
 09/Arch-Creek-Park-Ghost-Stroll.jpg
CATEGORIES:Things To Do
LOCATION:Arch Creek Park & Nature Center\, 1855 NE 135 Street North Miami\,
  Miami\, Florida\, 33181\, FL\, United States
X-APPLE-STRUCTURED-LOCATION;VALUE=URI;X-ADDRESS=1855 NE 135 Street North Mi
 ami\, Miami\, Florida\, 33181\, FL\, United States;X-APPLE-RADIUS=100;X-TI
 TLE=Arch Creek Park & Nature Center:geo:0,0
END:VEVENT
BEGIN:VTIMEZONE
TZID:America/New_York
X-LIC-LOCATION:America/New_York
BEGIN:DAYLIGHT
DTSTART:20240310T030000
TZOFFSETFROM:-0500
TZOFFSETTO:-0400
TZNAME:EDT
END:DAYLIGHT
END:VTIMEZONE
END:VCALENDAR