BEGIN:VCALENDAR
VERSION:2.0
PRODID:-//wp-events-plugin.com//7.2.3.1//EN
TZID:America/New_York
X-WR-TIMEZONE:America/New_York
BEGIN:VEVENT
UID:1269@breathemiami.us
DTSTART;TZID=America/New_York:20250309T110000
DTEND;TZID=America/New_York:20250309T160000
DTSTAMP:20250218T033241Z
URL:https://breathemiami.us/events/aprende-a-decir-no/
SUMMARY:APRENDE A DECIR NO
DESCRIPTION:Attendees are invited to a transformative in-person event\, "Le
 arn to Say No\," designed to help individuals set healthy boundaries with 
 confidence. Many people struggle to decline requests from others\, often f
 eeling obligated to say yes even when it is inconvenient or overwhelming. 
 This special gathering\, hosted at Aloft Miami Doral\, offers practical st
 rategies and communication techniques to navigate these challenges effecti
 vely.\nParticipants will gain valuable insights into assertiveness\, self-
 respect\, and personal empowerment. Through interactive sessions\, they wi
 ll discover how to say no without guilt\, strengthen their self-esteem\, a
 nd develop a more balanced approach to personal and professional relations
 hips.\nThis event is an opportunity to cultivate healthier communication h
 abits and embrace the power of setting boundaries. Don’t miss this chanc
 e to invest in personal growth and well-being!\n\n\nGET TICKETS\n
ATTACH;FMTTYPE=image/jpeg:https://breathemiami.us/wp-content/uploads/2025/
 02/APRENDE-A-DECIR-NO.avif
CATEGORIES:Wellness Events
LOCATION:Aloft Miami Doral\, 3265 Northwest 107th Avenue\, Miami\, Florida\
 , 33172\, FL\, United States
X-APPLE-STRUCTURED-LOCATION;VALUE=URI;X-ADDRESS=3265 Northwest 107th Avenue
 \, Miami\, Florida\, 33172\, FL\, United States;X-APPLE-RADIUS=100;X-TITLE
 =Aloft Miami Doral:geo:0,0
END:VEVENT
BEGIN:VTIMEZONE
TZID:America/New_York
X-LIC-LOCATION:America/New_York
BEGIN:DAYLIGHT
DTSTART:20250309T030000
TZOFFSETFROM:-0500
TZOFFSETTO:-0400
TZNAME:EDT
END:DAYLIGHT
END:VTIMEZONE
END:VCALENDAR