BEGIN:VCALENDAR
VERSION:2.0
PRODID:-//wp-events-plugin.com//7.2.3.1//EN
TZID:America/New_York
X-WR-TIMEZONE:America/New_York
BEGIN:VEVENT
UID:1328@breathemiami.us
DTSTART;TZID=America/New_York:20251025T100000
DTEND;TZID=America/New_York:20251025T113000
DTSTAMP:20251007T154428Z
URL:https://breathemiami.us/events/ancestral-sound-bath-remembrance-ceremo
 ny-w-lilyana-3/
SUMMARY:Ancestral Sound Bath & Remembrance Ceremony w/ LilyAna
DESCRIPTION:Step into a ceremonial evening of sound and remembrance.\n&nbsp
 \;\nGuided by LilyAna\, this immersive journey weaves together ancestral i
 nstruments\, crystal frequencies\, and intuitive voice to open portals of 
 memory and healing. Joined by Rob Newmans and other featured guest artists
 \, the space becomes a living tapestry of vibration—inviting you to soft
 en\, listen\, and remember.\n&nbsp\;\n\nYou’ll be carried through waves 
 of resonance designed to restore balance\, release tension\, and reconnect
  you with the deeper rhythms of your own being.\n\nMats Provided – No ne
 ed to bring your own mat\, we’ve got you covered.\n\nOptional Comfort It
 ems: Bring a blanket or pillow to settle in even more deeply.\n\n&nbsp\;\n
 Tips for the Best Experience:\n•⁠ ⁠Wear comfortable clothing that al
 lows you to relax with ease\n•⁠ ⁠Hydrate beforehand\n•⁠ ⁠Keep 
 phones on silent to stay fully present\n&nbsp\;\n\nWe can’t wait to shar
 e this sacred evening of sound and remembrance with you.\nSee you on the m
 at.\n\n&nbsp\;\nOptional Comfort Items: For an even deeper relaxation\, f
 eel free to bring a blanket and pillow.\n&nbsp\;
ATTACH;FMTTYPE=image/jpeg:https://breathemiami.us/wp-content/uploads/2025/
 09/cshxgqwz10s8nhgonlxc.jpg
CATEGORIES:Mindfulness Events,Things To Do,Wellness Events,Yoga Events
LOCATION:ARTXSPACE\, 301 NW 28th St\, Miami\, Florida\, 33137\, FL\, United
  States
X-APPLE-STRUCTURED-LOCATION;VALUE=URI;X-ADDRESS=301 NW 28th St\, Miami\, Fl
 orida\, 33137\, FL\, United States;X-APPLE-RADIUS=100;X-TITLE=ARTXSPACE:ge
 o:0,0
END:VEVENT
BEGIN:VTIMEZONE
TZID:America/New_York
X-LIC-LOCATION:America/New_York
BEGIN:DAYLIGHT
DTSTART:20250309T030000
TZOFFSETFROM:-0500
TZOFFSETTO:-0400
TZNAME:EDT
END:DAYLIGHT
END:VTIMEZONE
END:VCALENDAR