BEGIN:VCALENDAR
VERSION:2.0
PRODID:-//wp-events-plugin.com//7.2.3.1//EN
TZID:America/New_York
X-WR-TIMEZONE:America/New_York
BEGIN:VEVENT
UID:1323@breathemiami.us
DTSTART;TZID=America/New_York:20251014T190000
DTEND;TZID=America/New_York:20251014T203000
DTSTAMP:20251007T154009Z
URL:https://breathemiami.us/events/ancestral-sound-bath-remembrance-ceremo
 ny-w-lilyana-2/
SUMMARY:Ancestral Sound Bath & Remembrance Ceremony w/ LilyAna
DESCRIPTION:Step into a ceremonial evening of sound and remembrance.\n&nbsp
 \;\n\nGuided by LilyAna\, this immersive journey weaves together ancestral
  instruments\, crystal frequencies\, and intuitive voice to open portals o
 f memory and healing. Joined by Rob Newmans and other featured guest artis
 ts\, the space becomes a living tapestry of vibration—inviting you to so
 ften\, listen\, and remember.\n\nYou’ll be carried through waves of reso
 nance designed to restore balance\, release tension\, and reconnect you wi
 th the deeper rhythms of your own being.\n\nMats Provided – No need to b
 ring your own mat\, we’ve got you covered.\nOptional Comfort Items: Brin
 g a blanket or pillow to settle in even more deeply.\n&nbsp\;\n\nTips for 
 the Best Experience:\n•⁠ ⁠Wear comfortable clothing that allows you 
 to relax with ease\n•⁠ ⁠Hydrate beforehand\n•⁠ ⁠Keep phones on
  silent to stay fully present\n\n&nbsp\;\n\nWe can’t wait to share this 
 sacred evening of sound and remembrance with you.\nSee you on the mat.\n\n
 &nbsp\;\n\nOptional Comfort Items: For an even deeper relaxation\, feel f
 ree to bring a blanket and pillow.\n\n&nbsp\;\n\n✨ VR Meditation Exp
 erience ✨\nAdd-On ($25) | Starts at 8:30 PM \n\n🌊 Featuring AQUAZUL
  VR by Alissa Christine\n🎭 Commissioned by The Adrienne Arsht Center\n\
 n&nbsp\;\n\n🌌 The Experience\nA 30-min ocean-inspired VR meditation + 
 sound journey to reset your mind and restore balance.\n\n🌀 Hand-painted
  3D worlds\n💦 Breathwork\, grounding + sound bath\n\n&nbsp\;\n\n💙 B
 enefits\n• Reduce stress + quiet the mind\n• Support sleep + focus\n
 • Promote inner peace + mindfulness\n\n&nbsp\;
ATTACH;FMTTYPE=image/jpeg:https://breathemiami.us/wp-content/uploads/2025/
 09/k5040aaaurqzvid3vn69.png
CATEGORIES:Mindfulness Events,Sports &amp; Fitness Events,Things To
 Do,Wellness Events,Yoga Events
LOCATION:ARTXSPACE\, 301 NW 28th St\, Miami\, 33137\, FL\, United States
X-APPLE-STRUCTURED-LOCATION;VALUE=URI;X-ADDRESS=301 NW 28th St\, Miami\, 33
 137\, FL\, United States;X-APPLE-RADIUS=100;X-TITLE=ARTXSPACE:geo:0,0
END:VEVENT
BEGIN:VTIMEZONE
TZID:America/New_York
X-LIC-LOCATION:America/New_York
BEGIN:DAYLIGHT
DTSTART:20250309T030000
TZOFFSETFROM:-0500
TZOFFSETTO:-0400
TZNAME:EDT
END:DAYLIGHT
END:VTIMEZONE
END:VCALENDAR