BEGIN:VCALENDAR
VERSION:2.0
PRODID:-//wp-events-plugin.com//7.2.3.1//EN
TZID:America/New_York
X-WR-TIMEZONE:America/New_York
BEGIN:VEVENT
UID:621@breathemiami.us
DTSTART;TZID=America/New_York:20240731T190000
DTEND;TZID=America/New_York:20240731T213000
DTSTAMP:20240706T102946Z
URL:https://breathemiami.us/events/all-inclusive-eat-network/
SUMMARY:All-Inclusive Eat & Network
DESCRIPTION:Join us for an evening of connections\, conversations\, and del
 ectable Indian cuisine at our inaugural Namaste Life Networking Mixer! Thi
 s event is designed to bring together like-minded professionals and single
 s for a night of mingling and networking in a warm and inviting atmosphere
 .\n\nEvent Highlights:\n\n🍛 Authentic Indian Cuisine: Delight your tast
 e buds with a specially curated menu featuring the rich and diverse flavor
 s of India\, prepared by Palace Indian Restaurant.\n\n💬 Networking Oppo
 rtunities: Expand your professional network\, exchange ideas\, and meet ne
 w people. Whether you’re looking to collaborate on projects\, find new c
 lients\, or simply make new friends\, this is the perfect setting to conne
 ct with others.\n\n❤️ Singles Connection: If you're open to dating\, w
 ear a heart sticker to indicate your interest. It's a subtle and enjoyable
  way to find potential matches while networking.\n\n🎤 Spotlight Your Bu
 siness: For a small additional fee\, you can take the mic and introduce yo
 ur business to the entire group. This is an excellent opportunity to showc
 ase your brand and services to a captive audience.\n\nWhy Attend:\n\n 	Bui
 ld Your Network: Connect with professionals from various industries and ex
 pand your circle.\n 	Enjoy Authentic Cuisine: Savor a variety of Indian di
 shes that will tantalize your taste buds.\n 	Find Potential Matches: If yo
 u're single and looking\, this event provides a fun and relaxed way to mee
 t someone special.\n 	Promote Your Business: Take advantage of the opportu
 nity to introduce your business to a group of engaged attendees.\n\nDon’
 t Miss Out:\n\nSeize this opportunity to connect\, network\, and enjoy a w
 onderful evening with the Namaste Life community. Whether your goal is to 
 grow your professional circle\, meet someone special\, or simply enjoy gre
 at food and company\, we look forward to seeing you there!\n\nGET TICKETS\
 n
ATTACH;FMTTYPE=image/jpeg:https://breathemiami.us/wp-content/uploads/2024/
 07/All-Inclusive-Eat-Network.jpg
CATEGORIES:Food &amp; Drink Events,Things To Do
LOCATION:Palace Indian Restaurant\, 11422 West State Road 84 Davie\, Miami\
 , Florida\, 33325\, FL \, United States
X-APPLE-STRUCTURED-LOCATION;VALUE=URI;X-ADDRESS=11422 West State Road 84 Da
 vie\, Miami\, Florida\, 33325\, FL \, United States;X-APPLE-RADIUS=100;X-T
 ITLE=Palace Indian Restaurant:geo:0,0
END:VEVENT
BEGIN:VTIMEZONE
TZID:America/New_York
X-LIC-LOCATION:America/New_York
BEGIN:DAYLIGHT
DTSTART:20240310T030000
TZOFFSETFROM:-0500
TZOFFSETTO:-0400
TZNAME:EDT
END:DAYLIGHT
END:VTIMEZONE
END:VCALENDAR