BEGIN:VCALENDAR
VERSION:2.0
PRODID:-//wp-events-plugin.com//7.2.3.1//EN
TZID:America/New_York
X-WR-TIMEZONE:America/New_York
BEGIN:VEVENT
UID:1140@breathemiami.us
DTSTART;TZID=America/New_York:20241111T190000
DTEND;TZID=America/New_York:20241111T200000
DTSTAMP:20241023T080530Z
URL:https://breathemiami.us/events/align-with-1/
SUMMARY:Align With 1
DESCRIPTION:\n\n\n\n\nOn November 11th\, immerse yourself in an evening of 
 enchantment and renewal as we align with the celestial energy of this ausp
 icious day. The night begins with a deeply transformative sound bath\, set
 ting the stage for a sacred cacao ceremony. This ancient\, heart-opening e
 lixir fosters deep inner connection\, allowing participants to fully embra
 ce the experience. As live vocals harmonize with soothing melodies\, atten
 dees will be invited to surrender to the healing powers of sound and breat
 hwork\, facilitating a journey of personal transformation.\n\nHosted in ou
 r elegant Poco Terra Ballroom\, this magical event promises a serene and i
 ntrospective experience\, designed to awaken and renew the spirit.\n\nPlea
 se note that this event is non-refundable\, and tickets are non-transferab
 le. Our hotel programming is complimentary for guests aged 21 and over. To
  secure your spot\, please consult our concierge or email 1SB.Marketing@1h
 otels.com for availability. By purchasing a ticket\, you agree to allow th
 e use of event photography and recorded videos for promotional purposes.\n
 \nJoin us in this unforgettable evening at 1 Hotel South Beach\, where @1h
 otel.southbeach and @kanekshun unite to bring you a night of healing and t
 ransformation.\n\n\n\n\n\n\nGET TICKETS\n
ATTACH;FMTTYPE=image/jpeg:https://breathemiami.us/wp-content/uploads/2024/
 10/Align-With-1.jpg
CATEGORIES:Things To Do
LOCATION:1 Hotel South Beach\, 2341 Collins Avenue Miami Beach\, Miami\, Fl
 orida\, 33139\,  FL \, United States
X-APPLE-STRUCTURED-LOCATION;VALUE=URI;X-ADDRESS=2341 Collins Avenue Miami B
 each\, Miami\, Florida\, 33139\,  FL \, United States;X-APPLE-RADIUS=100;X
 -TITLE=1 Hotel South Beach:geo:0,0
END:VEVENT
BEGIN:VTIMEZONE
TZID:America/New_York
X-LIC-LOCATION:America/New_York
BEGIN:STANDARD
DTSTART:20241103T010000
TZOFFSETFROM:-0400
TZOFFSETTO:-0500
TZNAME:EST
END:STANDARD
END:VTIMEZONE
END:VCALENDAR