BEGIN:VCALENDAR
VERSION:2.0
PRODID:-//wp-events-plugin.com//7.2.3.1//EN
TZID:America/New_York
X-WR-TIMEZONE:America/New_York
BEGIN:VEVENT
UID:1087@breathemiami.us
DTSTART;TZID=America/New_York:20241030T183000
DTEND;TZID=America/New_York:20241030T213000
DTSTAMP:20241013T135417Z
URL:https://breathemiami.us/events/aha-bls-cpr-and-aed-class-in-miami/
SUMMARY:AHA BLS CPR and AED Class in Miami
DESCRIPTION:In Miami\, individuals can enhance their lifesaving skills thro
 ugh comprehensive\, hands-on CPR training provided by CPR Miami. This in-p
 erson class offers participants the quality certification cards that emplo
 yers demand. Attendees will receive their American Heart Association (AHA)
  CPR certification cards on the same day as their training\, ensuring they
  are equipped to respond to emergencies promptly.\n\nIn addition to Basic 
 Life Support (BLS) CPR training\, CPR Miami also offers courses in First A
 id\, Bloodborne Pathogens\, and Pet CPR. With weekly classes available\, t
 here are ample opportunities for both individuals and groups to participat
 e. The organization also provides onsite training sessions tailored for bu
 sinesses and community groups\, making it convenient for teams to receive 
 essential safety training.\n\nFor more information on class schedules and 
 to register\, interested individuals are encouraged to visit the CPR Miami
  website at www.cprmiami.org.\n\nGET TICKETS\n
ATTACH;FMTTYPE=image/jpeg:https://breathemiami.us/wp-content/uploads/2024/
 10/AHA-BLS-CPR-and-AED-Class-in-Miami.jpg
CATEGORIES:Wellness Events
LOCATION:CPR Certification Miami\, 990 Biscayne Blvd\, 502 Miami\, Florida\
 , 33132\, FL\, United States
X-APPLE-STRUCTURED-LOCATION;VALUE=URI;X-ADDRESS=990 Biscayne Blvd\, 502 Mia
 mi\, Florida\, 33132\, FL\, United States;X-APPLE-RADIUS=100;X-TITLE=CPR C
 ertification Miami:geo:0,0
END:VEVENT
BEGIN:VTIMEZONE
TZID:America/New_York
X-LIC-LOCATION:America/New_York
BEGIN:DAYLIGHT
DTSTART:20240310T030000
TZOFFSETFROM:-0500
TZOFFSETTO:-0400
TZNAME:EDT
END:DAYLIGHT
END:VTIMEZONE
END:VCALENDAR