BEGIN:VCALENDAR
VERSION:2.0
PRODID:-//wp-events-plugin.com//7.2.3.1//EN
TZID:America/New_York
X-WR-TIMEZONE:America/New_York
BEGIN:VEVENT
UID:773@breathemiami.us
DTSTART;TZID=America/New_York:20240905T210000
DTEND;TZID=America/New_York:20240906T020000
DTSTAMP:20240825T115105Z
URL:https://breathemiami.us/events/afrique-sounds-of-the-diaspora/
SUMMARY:AFRIQUE . Sounds of the Diaspora
DESCRIPTION:Immerse yourself in the vibrant rhythms of the diaspora at our 
 Summer Pop-Up at Coyo Taco in Wynwood. Join us for an electrifying evening
  where the beats of the future and present collide\, celebrating the rich 
 musical tapestry of African heritage. Get ready to dance the night away as
  we spin a diverse mix of genres\, with a focus on AfroHouse\, House\, Ama
 piano\, Afrobeats\, and more.\n\nThis event is all about unity through mus
 ic\, bringing together sounds that resonate across cultures and generation
 s. Whether you're a seasoned dancer or just looking to enjoy some incredib
 le tunes\, this night promises to be an unforgettable celebration of the g
 lobal influence of African music. So come\, vibe\, and let the rhythms of 
 the diaspora move you!\n\nGET TICKETS\n
ATTACH;FMTTYPE=image/jpeg:https://breathemiami.us/wp-content/uploads/2024/
 08/AFRIQUE-.-Sounds-of-the-Diaspora.jpg
CATEGORIES:Mindfulness Events,Things To Do,Wellness Events
LOCATION:Coyo Taco\, 2300 NW 2nd Ave \, Miami\, Florida\, 33127\, FL\, Unit
 ed States
X-APPLE-STRUCTURED-LOCATION;VALUE=URI;X-ADDRESS=2300 NW 2nd Ave \, Miami\, 
 Florida\, 33127\, FL\, United States;X-APPLE-RADIUS=100;X-TITLE=Coyo Taco:
 geo:0,0
END:VEVENT
BEGIN:VTIMEZONE
TZID:America/New_York
X-LIC-LOCATION:America/New_York
BEGIN:DAYLIGHT
DTSTART:20240310T030000
TZOFFSETFROM:-0500
TZOFFSETTO:-0400
TZNAME:EDT
END:DAYLIGHT
END:VTIMEZONE
END:VCALENDAR