BEGIN:VCALENDAR
VERSION:2.0
PRODID:-//wp-events-plugin.com//7.2.3.1//EN
TZID:America/New_York
X-WR-TIMEZONE:America/New_York
BEGIN:VEVENT
UID:1165@breathemiami.us
DTSTART;TZID=America/New_York:20241121T183000
DTEND;TZID=America/New_York:20241121T194500
DTSTAMP:20241023T124011Z
URL:https://breathemiami.us/events/aerial-yoga-at-earth-n-us/
SUMMARY:AERIAL YOGA at Earth 'N' Us
DESCRIPTION:Embark on a unique aerial yoga journey at Earth 'N' Us\, where 
 you’ll experience the exhilarating combination of weightless inversions\
 , deep full-body stretches\, core-strengthening exercises\, and a playful 
 yet powerful practice. This class invites participants to engage in both s
 trengthening movements and soothing relaxation while suspended in the air
 —perfect for those looking to challenge their body and find balance in a
  fun\, supportive environment. Expect to work hard\, but also to unwind up
 side down in blissful stretches by the end of the session. 🙃\n\nDetails
 :\n\n 	Arrive Early: Please arrive 15 minutes before the class begins to s
 ettle in.\n 	What to Bring: Yoga mats are available for rental at $5\, and
  it’s recommended to bring a small hand towel for sweat.\n 	Parking: Con
 venient parking is available on the street or on grassy areas near the fen
 ces and gates around the block.\n 	Finding the Class: Head to house number
  7630\, enter where the fence says "YOGA\," and keep right to locate the c
 lass under the Tiki Hut.\n\nThis aerial yoga session blends fun\, fitness\
 , and relaxation\, offering a truly invigorating experience in a tranquil\
 , nature-inspired setting. Follow @earth_air_body for updates and to inqui
 re about massage sessions.\n\nGET TICKETS\n
ATTACH;FMTTYPE=image/jpeg:https://breathemiami.us/wp-content/uploads/2024/
 10/AERIAL-YOGA-at-Earth-N-Us.jpg
CATEGORIES:Yoga Events
LOCATION:Earth 'n' Us Farm\, 7630 Northeast 1st Avenue\, Miami\, Florida\, 
 33138\, FL\, United States
X-APPLE-STRUCTURED-LOCATION;VALUE=URI;X-ADDRESS=7630 Northeast 1st Avenue\,
  Miami\, Florida\, 33138\, FL\, United States;X-APPLE-RADIUS=100;X-TITLE=E
 arth 'n' Us Farm:geo:0,0
END:VEVENT
BEGIN:VTIMEZONE
TZID:America/New_York
X-LIC-LOCATION:America/New_York
BEGIN:STANDARD
DTSTART:20241103T010000
TZOFFSETFROM:-0400
TZOFFSETTO:-0500
TZNAME:EST
END:STANDARD
END:VTIMEZONE
END:VCALENDAR