BEGIN:VCALENDAR
VERSION:2.0
PRODID:-//wp-events-plugin.com//7.2.3.1//EN
TZID:America/New_York
X-WR-TIMEZONE:America/New_York
BEGIN:VEVENT
UID:396@breathemiami.us
DTSTART;TZID=America/New_York:20240420T080000
DTEND;TZID=America/New_York:20240420T170000
DTSTAMP:20240317T202138Z
URL:https://breathemiami.us/events/advanced-botox-derma-fillers-and-botuli
 num-toxin-technique-training/
SUMMARY:Advanced Botox Derma Fillers and Botulinum Toxin Technique Training
 .
DESCRIPTION:\nUp Your Aesthetic Game: Advanced Filler &amp\; Botox Training
  with Dr. Ricardo Silva\nCalling all aesthetic professionals! Elevate your
  skills and unlock the secrets to mastering advanced Derma Fillers and Bot
 ulinum Toxin techniques with FITI Schools' exclusive training program.\nLe
 d by the highly experienced injector\, Dr. Ricardo Silva\, this intensive 
 program delves into the latest advancements in cosmetic injectables.\nWhat
  You'll Gain:\n\n\n 	Cutting-Edge Knowledge: Gain in-depth knowledge of fa
 cial anatomy\, the effective use of toxins\, and how to address potential 
 filler complications.\n 	Master Advanced Techniques: Combine theoretical k
 nowledge with hands-on experience to refine your injection skills.\n 	Care
 er Advancement: Earn Continuing Education credits approved by the Florida 
 Board of Nursing\, enhancing your professional credentials.\n 	Enhanced Sk
 illset: Learn advanced techniques to manage toxins and filler complication
 s\, ensuring optimal patient outcomes.\n\nImmerse Yourself in Learning:\n\
 n\n 	Dates: Saturday\, April 20th (Advanced Derma Fillers) &amp\; Sunday\,
  April 21st (Advanced Botulinum Toxin)\n 	Time: 8:00 AM - 5:00 PM both day
 s\n 	Location: Florida International Training Institute\, Miami\n\nLimited
  Spots Available!\nDon't miss this opportunity to refine your aesthetic sk
 ills. Seats are limited\, so register today!\nHere's Why You Should Attend
 :\n\n\n 	Expert Instruction: Learn from the renowned Dr. Ricardo Silva\, a
 n injector with extensive experience.\n 	Comprehensive Learning: The progr
 am covers both theoretical and practical aspects of advanced injectable te
 chniques.\n 	Continuing Education Credits: Earn valuable CE credits toward
 s license renewal.\n 	Materials Included: All necessary course materials a
 re provided for your convenience.\n\nReady to Take Your Skills to the Next
  Level?\nSecure your spot today! Call 305-594-3151 or visit [link to FITI 
 course] for more information and registration.\nDon't Delay - Limited Spot
 s Available!\n\n\n\nBook Spots\n
ATTACH;FMTTYPE=image/jpeg:https://breathemiami.us/wp-content/uploads/2024/
 03/https___cdn.evbuc_.com_images_719669249_296868424537_1_original.jpeg
CATEGORIES:Wellness Events
LOCATION:7265 NW 25th St\, 7265 Northwest 25th Street \, Miami\, Florida\, 
 33122 \, United States
X-APPLE-STRUCTURED-LOCATION;VALUE=URI;X-ADDRESS=7265 Northwest 25th Street 
 \, Miami\, Florida\, 33122 \, United States;X-APPLE-RADIUS=100;X-TITLE=726
 5 NW 25th St:geo:0,0
END:VEVENT
BEGIN:VTIMEZONE
TZID:America/New_York
X-LIC-LOCATION:America/New_York
BEGIN:DAYLIGHT
DTSTART:20240310T030000
TZOFFSETFROM:-0500
TZOFFSETTO:-0400
TZNAME:EDT
END:DAYLIGHT
END:VTIMEZONE
END:VCALENDAR