BEGIN:VCALENDAR
VERSION:2.0
PRODID:-//wp-events-plugin.com//7.2.3.1//EN
TZID:America/New_York
X-WR-TIMEZONE:America/New_York
BEGIN:VEVENT
UID:1118@breathemiami.us
DTSTART;TZID=America/New_York:20241025T181500
DTEND;TZID=America/New_York:20241025T203000
DTSTAMP:20241018T065902Z
URL:https://breathemiami.us/events/adult-halloween-horror-movie-night-the-
 ring/
SUMMARY:Adult Halloween Horror Movie Night "The Ring"
DESCRIPTION:Get ready for a chilling evening as the Doral Cultural Arts Cen
 ter presents its Adult Halloween Horror Movie Night\, featuring the spine-
 tingling classic\, "The Ring." Scheduled for Friday\, October 25\, 2024\, 
 from 6:15 PM to 8:30 PM\, this event promises to be a thrilling experience
  for horror enthusiasts.\n\nGuests are encouraged to come dressed in their
  scariest costumes\, setting the perfect mood for a night filled with susp
 ense and thrills. As the iconic film unfolds on the big screen\, attendees
  will find themselves immersed in a world of horror\, exploring themes of 
 fear and the unknown that will keep them on the edge of their seats.\n\nTh
 is event is not just about watching a movie\; it’s an opportunity to sha
 re the experience with fellow horror fans in a fun and festive atmosphere.
  Between the suspenseful scenes and eerie sounds\, guests can enjoy mingli
 ng with others who share their passion for horror films\, making it a nigh
 t of both fright and camaraderie.\n\nWhether you’re a longtime fan of ho
 rror or just looking for a spooky way to celebrate the Halloween season\, 
 this movie night is an experience not to be missed. Mark your calendars\, 
 prepare your costumes\, and get ready for a night of thrills\, chills\, an
 d heart-pounding excitement at Doral Cultural Arts Center!\n\nGET TICKETS\
 n
ATTACH;FMTTYPE=image/jpeg:https://breathemiami.us/wp-content/uploads/2024/
 10/Adult-Halloween-Horror-Movie-Night-The-Ring.jpg
CATEGORIES:Things To Do
LOCATION:Doral Cultural Arts Center\, 8363 Northwest 53rd Street Doral\, Mi
 ami\, Florida\, 33166\, FL\, United States
X-APPLE-STRUCTURED-LOCATION;VALUE=URI;X-ADDRESS=8363 Northwest 53rd Street 
 Doral\, Miami\, Florida\, 33166\, FL\, United States;X-APPLE-RADIUS=100;X-
 TITLE=Doral Cultural Arts Center:geo:0,0
END:VEVENT
BEGIN:VTIMEZONE
TZID:America/New_York
X-LIC-LOCATION:America/New_York
BEGIN:DAYLIGHT
DTSTART:20240310T030000
TZOFFSETFROM:-0500
TZOFFSETTO:-0400
TZNAME:EDT
END:DAYLIGHT
END:VTIMEZONE
END:VCALENDAR