BEGIN:VCALENDAR
VERSION:2.0
PRODID:-//wp-events-plugin.com//7.2.3.1//EN
TZID:America/New_York
X-WR-TIMEZONE:America/New_York
BEGIN:VEVENT
UID:1169@breathemiami.us
DTSTART;TZID=America/New_York:20241125T190000
DTEND;TZID=America/New_York:20241125T200000
DTSTAMP:20241023T143345Z
URL:https://breathemiami.us/events/acupuncture-sound-bath-together/
SUMMARY:Acupuncture & Sound Bath - Together
DESCRIPTION:Join us for a unique blend of acupuncture and sound therapy eve
 ry last Friday of the month at 7 PM! This dynamic wellness session brings 
 together the calming energy of acupuncture with the soothing vibrations of
  sound healing to promote deep relaxation\, enhance sleep quality\, streng
 then the immune system\, and support overall well-being.\n\nLed by two ski
 lled healers\, Carmen will immerse you in a therapeutic sound bath using c
 rystal and Tibetan bowls\, while Susana administers acupuncture to enhance
  the healing effects. This powerful combination works to reduce stress\, b
 alance the body\, and promote natural healing from within.\n\nPre-registra
 tion is highly recommended\, as each session is limited to 12 participants
  for a personalized experience. The investment is $66 if booked in advance
  and $88 at the door. Please note\, tickets are non-refundable.\n\nPrepare
  to start your journey at 7 PM by bringing a yoga mat and getting ready fo
 r a deeply restorative experience.\n\nSpaces fill up fast\, so don't miss 
 out on this opportunity to nurture your body and mind with the harmonious 
 synergy of acupuncture and sound therapy!\n\nGET TICKETS\n
ATTACH;FMTTYPE=image/jpeg:https://breathemiami.us/wp-content/uploads/2024/
 10/Acupuncture-Sound-Bath-Together.jpg
CATEGORIES:Wellness Events
LOCATION:Synergy Yoga Center\, 844 Alton Road #2nd floor\, Miami Beach\, Fl
 orida\, 33139\, United States
X-APPLE-STRUCTURED-LOCATION;VALUE=URI;X-ADDRESS=844 Alton Road #2nd floor\,
  Miami Beach\, Florida\, 33139\, United States;X-APPLE-RADIUS=100;X-TITLE=
 Synergy Yoga Center:geo:0,0
END:VEVENT
BEGIN:VTIMEZONE
TZID:America/New_York
X-LIC-LOCATION:America/New_York
BEGIN:STANDARD
DTSTART:20241103T010000
TZOFFSETFROM:-0400
TZOFFSETTO:-0500
TZNAME:EST
END:STANDARD
END:VTIMEZONE
END:VCALENDAR